{"text_format":"1","workbook":"xlsx","n_sheets":8,"sheets":["BB","Bandits","Outlaws","Young Lions","Semi Pro","Masters","Pro","Point Values"],"not_rendered":{"charts":0,"images":0,"macros":0,"external_links":0,"defined_names":0,"comments":0,"pivot_tables":0},"unopened":[],"bounds":{"document_bytes":16777216,"sheet_cells":100000,"rows_first":2000,"rows_last":500,"rows_between":2000,"halvings":0,"cell_chars":16384,"cell_head_chars":4096},"cells_cut":0,"cells_raw":0,"read":"whole","date_system":"1900"}

{"sheet":"BB","index":0,"n_rows":22,"n_cols":13,"rows_kept":22,"cut":false,"hidden":false,"merged":[[0,0,0,14]]}
["BEGINNER BANDO - 2018 WINTER HEAT POINTS"]
[null,"CAR NUMBER","DRIVERS NAME","HOME TOWN",null,"2017-12-16","2017-12-16","2017-12-17","2018-01-21","2018-01-21","2018-01-27","2018-02-03","CANCELED"]
[1,"1","Nate Honeycutt",null,null,"X","X","X"]
[2,"8","Griffin Taylor",null,null,"1","1","1"]
[3,"9","Mykenzie Cozart",null,null,"X","X","X"]
[4,12,"Natasha Elder",null,null,null,null,"X","1","1"]
[5,"18","Alex Meggs",null,null,"X","X","X"]
[6,21,"Carter Russo",null,null,"X","X","X"]
[7,"22","Whitney Meggs",null,null,"X","X","X"]
[8,"99","Sean McElearney",null,null,"X","X","X"]
[9]
[10]
[11]
[12]
[13]
[14]
[15]
[16]
[17]
[18]
[19]
[20]

{"sheet":"Bandits","index":1,"n_rows":23,"n_cols":22,"rows_kept":23,"cut":false,"hidden":false,"merged":[[0,0,0,23],[22,0,22,21]]}
["BANDIT - 2018 WINTER HEAT POINTS"]
["CHAMPIONSHIP STANDING","CAR NUMBER","DRIVERS NAME",null,"TOTAL POINTS","2017-12-16","2017-12-17","2018-01-21","2018-01-21","2018-01-27","2018-01-27","2018-02-03","CANCELED",null,"2017-12-16","2017-12-17","2017-01-20","2018-01-20","2018-01-27","2018-01-27","2018-02-03","CANCELED"]
[1,19,"Jaiden Reyna",null,{"$f":"SUM(O3:U3)","v":582},8,3,2,2,3,1,1,null,null,0,{"$f":"VLOOKUP(G3,'Point Values'!$A:$B,2,FALSE)","v":94},{"$f":"VLOOKUP(H3,'Point Values'!$A:$B,2,FALSE)","v":97},{"$f":"VLOOKUP(I3,'Point Values'!$A:$B,2,FALSE)","v":97},{"$f":"VLOOKUP(J3,'Point Values'!$A:$B,2,FALSE)","v":94},{"$f":"VLOOKUP(K3,'Point Values'!$A:$B,2,FALSE)","v":100},{"$f":"VLOOKUP(L3,'Point Values'!$A:$B,2,FALSE)","v":100}]
[2,48,"Bobby Elder",null,567,4,4,3,".",2,2,2,null,null,{"$f":"VLOOKUP(F4,'Point Values'!$A:$B,2,FALSE)","v":91},{"$f":"VLOOKUP(G4,'Point Values'!$A:$B,2,FALSE)","v":91},{"$f":"VLOOKUP(H4,'Point Values'!$A:$B,2,FALSE)","v":94},{"$f":"VLOOKUP(I4,'Point Values'!$A:$B,2,FALSE)","v":0},{"$f":"VLOOKUP(J4,'Point Values'!$A:$B,2,FALSE)","v":97},{"$f":"VLOOKUP(K4,'Point Values'!$A:$B,2,FALSE)","v":97},{"$f":"VLOOKUP(L4,'Point Values'!$A:$B,2,FALSE)","v":97}]
[3,"74","Lucas Vera",null,546,9,".",7,3,1,3,3,null,null,{"$f":"VLOOKUP(F5,'Point Values'!$A:$B,2,FALSE)","v":80},{"$f":"VLOOKUP(G5,'Point Values'!$A:$B,2,FALSE)","v":0},{"$f":"VLOOKUP(H5,'Point Values'!$A:$B,2,FALSE)","v":84},{"$f":"VLOOKUP(I5,'Point Values'!$A:$B,2,FALSE)","v":94},{"$f":"VLOOKUP(J5,'Point Values'!$A:$B,2,FALSE)","v":100},{"$f":"VLOOKUP(K5,'Point Values'!$A:$B,2,FALSE)","v":94},{"$f":"VLOOKUP(L5,'Point Values'!$A:$B,2,FALSE)","v":94}]
[4,"18","Truett Miranda",null,535,5,5,4,4,4,5,6,null,null,0,{"$f":"VLOOKUP(G6,'Point Values'!$A:$B,2,FALSE)","v":88},{"$f":"VLOOKUP(H6,'Point Values'!$A:$B,2,FALSE)","v":91},{"$f":"VLOOKUP(I6,'Point Values'!$A:$B,2,FALSE)","v":91},{"$f":"VLOOKUP(J6,'Point Values'!$A:$B,2,FALSE)","v":91},{"$f":"VLOOKUP(K6,'Point Values'!$A:$B,2,FALSE)","v":88},{"$f":"VLOOKUP(L6,'Point Values'!$A:$B,2,FALSE)","v":86}]
[5,88,"Sean Abell",null,443,".",".",5,5,5,4,5,null,null,{"$f":"VLOOKUP(F7,'Point Values'!$A:$B,2,FALSE)","v":0},{"$f":"VLOOKUP(G7,'Point Values'!$A:$B,2,FALSE)","v":0},{"$f":"VLOOKUP(H7,'Point Values'!$A:$B,2,FALSE)","v":88},{"$f":"VLOOKUP(I7,'Point Values'!$A:$B,2,FALSE)","v":88},{"$f":"VLOOKUP(J7,'Point Values'!$A:$B,2,FALSE)","v":88},{"$f":"VLOOKUP(K7,'Point Values'!$A:$B,2,FALSE)","v":91},{"$f":"VLOOKUP(L7,'Point Values'!$A:$B,2,FALSE)","v":88}]
[6,"4E","Parker Eatmon",null,391,3,2,1,1,".",".",".",null,null,{"$f":"VLOOKUP(F8,'Point Values'!$A:$B,2,FALSE)","v":94},{"$f":"VLOOKUP(G8,'Point Values'!$A:$B,2,FALSE)","v":97},{"$f":"VLOOKUP(H8,'Point Values'!$A:$B,2,FALSE)","v":100},{"$f":"VLOOKUP(I8,'Point Values'!$A:$B,2,FALSE)","v":100},{"$f":"VLOOKUP(J8,'Point Values'!$A:$B,2,FALSE)","v":0},{"$f":"VLOOKUP(K8,'Point Values'!$A:$B,2,FALSE)","v":0},{"$f":"VLOOKUP(L8,'Point Values'!$A:$B,2,FALSE)","v":0}]
[7,"16","Stanley Hayes",null,265,2,6,8,".",".",".",".",null,null,{"$f":"VLOOKUP(F9,'Point Values'!$A:$B,2,FALSE)","v":97},{"$f":"VLOOKUP(G9,'Point Values'!$A:$B,2,FALSE)","v":86},{"$f":"VLOOKUP(H9,'Point Values'!$A:$B,2,FALSE)","v":82},{"$f":"VLOOKUP(I9,'Point Values'!$A:$B,2,FALSE)","v":0},{"$f":"VLOOKUP(J9,'Point Values'!$A:$B,2,FALSE)","v":0},{"$f":"VLOOKUP(K9,'Point Values'!$A:$B,2,FALSE)","v":0},{"$f":"VLOOKUP(L9,'Point Values'!$A:$B,2,FALSE)","v":0}]
[8,"32","Zach Miracle",null,200,1,1,".",".",".",".",".",null,null,{"$f":"VLOOKUP(F10,'Point Values'!$A:$B,2,FALSE)","v":100},{"$f":"VLOOKUP(G10,'Point Values'!$A:$B,2,FALSE)","v":100},{"$f":"VLOOKUP(H10,'Point Values'!$A:$B,2,FALSE)","v":0},{"$f":"VLOOKUP(I10,'Point Values'!$A:$B,2,FALSE)","v":0},{"$f":"VLOOKUP(J10,'Point Values'!$A:$B,2,FALSE)","v":0},{"$f":"VLOOKUP(K10,'Point Values'!$A:$B,2,FALSE)","v":0},{"$f":"VLOOKUP(L10,'Point Values'!$A:$B,2,FALSE)","v":0}]
[9,42,"Jacob Bradley",null,168,6,8,".",".",".",".",".",null,null,{"$f":"VLOOKUP(F11,'Point Values'!$A:$B,2,FALSE)","v":86},{"$f":"VLOOKUP(G11,'Point Values'!$A:$B,2,FALSE)","v":82},{"$f":"VLOOKUP(H11,'Point Values'!$A:$B,2,FALSE)","v":0},{"$f":"VLOOKUP(I11,'Point Values'!$A:$B,2,FALSE)","v":0},{"$f":"VLOOKUP(J11,'Point Values'!$A:$B,2,FALSE)","v":0},{"$f":"VLOOKUP(K11,'Point Values'!$A:$B,2,FALSE)","v":0},{"$f":"VLOOKUP(L11,'Point Values'!$A:$B,2,FALSE)","v":0}]
[10,"22","Wyatt Philyaw",null,164,7,9,".",".",".",".",".",null,null,{"$f":"VLOOKUP(F12,'Point Values'!$A:$B,2,FALSE)","v":84},{"$f":"VLOOKUP(G12,'Point Values'!$A:$B,2,FALSE)","v":80},{"$f":"VLOOKUP(H12,'Point Values'!$A:$B,2,FALSE)","v":0},{"$f":"VLOOKUP(I12,'Point Values'!$A:$B,2,FALSE)","v":0},{"$f":"VLOOKUP(J12,'Point Values'!$A:$B,2,FALSE)","v":0},{"$f":"VLOOKUP(K12,'Point Values'!$A:$B,2,FALSE)","v":0},{"$f":"VLOOKUP(L12,'Point Values'!$A:$B,2,FALSE)","v":0}]
[11,"44","Kaleb Bradley",null,162,10,7,".",".",".",".",".",null,null,{"$f":"VLOOKUP(F13,'Point Values'!$A:$B,2,FALSE)","v":78},{"$f":"VLOOKUP(G13,'Point Values'!$A:$B,2,FALSE)","v":84},{"$f":"VLOOKUP(H13,'Point Values'!$A:$B,2,FALSE)","v":0},{"$f":"VLOOKUP(I13,'Point Values'!$A:$B,2,FALSE)","v":0},{"$f":"VLOOKUP(J13,'Point Values'!$A:$B,2,FALSE)","v":0},{"$f":"VLOOKUP(K13,'Point Values'!$A:$B,2,FALSE)","v":0},{"$f":"VLOOKUP(L13,'Point Values'!$A:$B,2,FALSE)","v":0}]
[12,"9","Kade Brown",null,91,".",".",".",".",".",".",4,null,null,{"$f":"VLOOKUP(F14,'Point Values'!$A:$B,2,FALSE)","v":0},{"$f":"VLOOKUP(G14,'Point Values'!$A:$B,2,FALSE)","v":0},{"$f":"VLOOKUP(H14,'Point Values'!$A:$B,2,FALSE)","v":0},{"$f":"VLOOKUP(I14,'Point Values'!$A:$B,2,FALSE)","v":0},{"$f":"VLOOKUP(J14,'Point Values'!$A:$B,2,FALSE)","v":0},{"$f":"VLOOKUP(K14,'Point Values'!$A:$B,2,FALSE)","v":0},{"$f":"VLOOKUP(L14,'Point Values'!$A:$B,2,FALSE)","v":91}]
[13,"8","Taylor Griffin",null,86,".",".",6,".",".",".",".",null,null,{"$f":"VLOOKUP(F15,'Point Values'!$A:$B,2,FALSE)","v":0},{"$f":"VLOOKUP(G15,'Point Values'!$A:$B,2,FALSE)","v":0},{"$f":"VLOOKUP(H15,'Point Values'!$A:$B,2,FALSE)","v":86},{"$f":"VLOOKUP(I15,'Point Values'!$A:$B,2,FALSE)","v":0},{"$f":"VLOOKUP(J15,'Point Values'!$A:$B,2,FALSE)","v":0},{"$f":"VLOOKUP(K15,'Point Values'!$A:$B,2,FALSE)","v":0},{"$f":"VLOOKUP(L15,'Point Values'!$A:$B,2,FALSE)","v":0}]
[14]
[15]
[16]
[17]
[18]
[19]
[20]
["*Ties will be broken by:  1)  number of wins, 2)  number of 2nd places, 3) number of third place finishes, etc., until the tie is broken)."]

{"sheet":"Outlaws","index":2,"n_rows":23,"n_cols":22,"rows_kept":23,"cut":false,"hidden":false,"merged":[[0,0,0,23],[22,0,22,21]]}
["OUTLAW - 2018 WINTER HEAT POINTS"]
["CHAMPIONSHIP STANDING","CAR NUMBER","DRIVERS NAME",null,"TOTAL POINTS","2017-12-16","2017-12-16","2018-01-21","2018-01-21","2018-01-27","2018-01-27","2018-02-03","CANCELED","2018-02-03","2017-12-16","2017-12-17","2017-01-20","2018-01-20","2018-01-27","2018-01-27","2018-02-03","CANCELED"]
[1,"6L","Garrett Lowe",null,{"$f":"SUM(O3:U3)","v":588},6,4,2,1,1,1,1,null,null,0,{"$f":"VLOOKUP(G3,'Point Values'!$A:$B,2,FALSE)","v":91},{"$f":"VLOOKUP(H3,'Point Values'!$A:$B,2,FALSE)","v":97},{"$f":"VLOOKUP(I3,'Point Values'!$A:$B,2,FALSE)","v":100},{"$f":"VLOOKUP(J3,'Point Values'!$A:$B,2,FALSE)","v":100},{"$f":"VLOOKUP(K3,'Point Values'!$A:$B,2,FALSE)","v":100},{"$f":"VLOOKUP(L3,'Point Values'!$A:$B,2,FALSE)","v":100}]
[2,"9","Santiago Hill",null,545,8,2,6,6,4,4,3,null,null,0,{"$f":"VLOOKUP(G4,'Point Values'!$A:$B,2,FALSE)","v":97},{"$f":"VLOOKUP(H4,'Point Values'!$A:$B,2,FALSE)","v":86},{"$f":"VLOOKUP(I4,'Point Values'!$A:$B,2,FALSE)","v":86},{"$f":"VLOOKUP(J4,'Point Values'!$A:$B,2,FALSE)","v":91},{"$f":"VLOOKUP(K4,'Point Values'!$A:$B,2,FALSE)","v":91},{"$f":"VLOOKUP(L4,'Point Values'!$A:$B,2,FALSE)","v":94}]
[3,"04","Cameron Murray",null,528,5,5,3,5,7,12,6,null,null,{"$f":"VLOOKUP(F5,'Point Values'!$A:$B,2,FALSE)","v":88},{"$f":"VLOOKUP(G5,'Point Values'!$A:$B,2,FALSE)","v":88},{"$f":"VLOOKUP(H5,'Point Values'!$A:$B,2,FALSE)","v":94},{"$f":"VLOOKUP(I5,'Point Values'!$A:$B,2,FALSE)","v":88},{"$f":"VLOOKUP(J5,'Point Values'!$A:$B,2,FALSE)","v":84},0,{"$f":"VLOOKUP(L5,'Point Values'!$A:$B,2,FALSE)","v":86}]
[4,24,"Jaydn Daniels",null,524,7,7,8,4,6,9,2,null,null,{"$f":"VLOOKUP(F6,'Point Values'!$A:$B,2,FALSE)","v":84},{"$f":"VLOOKUP(G6,'Point Values'!$A:$B,2,FALSE)","v":84},{"$f":"VLOOKUP(H6,'Point Values'!$A:$B,2,FALSE)","v":82},{"$f":"VLOOKUP(I6,'Point Values'!$A:$B,2,FALSE)","v":91},{"$f":"VLOOKUP(J6,'Point Values'!$A:$B,2,FALSE)","v":86},0,{"$f":"VLOOKUP(L6,'Point Values'!$A:$B,2,FALSE)","v":97}]
[5,"8","Trevor Wester",null,521,4,13,5,8,8,3,7,null,null,{"$f":"VLOOKUP(F7,'Point Values'!$A:$B,2,FALSE)","v":91},0,{"$f":"VLOOKUP(H7,'Point Values'!$A:$B,2,FALSE)","v":88},{"$f":"VLOOKUP(I7,'Point Values'!$A:$B,2,FALSE)","v":82},{"$f":"VLOOKUP(J7,'Point Values'!$A:$B,2,FALSE)","v":82},{"$f":"VLOOKUP(K7,'Point Values'!$A:$B,2,FALSE)","v":94},{"$f":"VLOOKUP(L7,'Point Values'!$A:$B,2,FALSE)","v":84}]
[6,"77","Carson Ramsey",null,516,1,3,11,12,5,6,13,null,null,{"$f":"VLOOKUP(F8,'Point Values'!$A:$B,2,FALSE)","v":100},{"$f":"VLOOKUP(G8,'Point Values'!$A:$B,2,FALSE)","v":94},{"$f":"VLOOKUP(H8,'Point Values'!$A:$B,2,FALSE)","v":76},0,{"$f":"VLOOKUP(J8,'Point Values'!$A:$B,2,FALSE)","v":88},{"$f":"VLOOKUP(K8,'Point Values'!$A:$B,2,FALSE)","v":86},{"$f":"VLOOKUP(L8,'Point Values'!$A:$B,2,FALSE)","v":72}]
[7,"54","Josh Speas",null,501,2,6,7,10,13,8,12,null,null,{"$f":"VLOOKUP(F9,'Point Values'!$A:$B,2,FALSE)","v":97},{"$f":"VLOOKUP(G9,'Point Values'!$A:$B,2,FALSE)","v":86},{"$f":"VLOOKUP(H9,'Point Values'!$A:$B,2,FALSE)","v":84},{"$f":"VLOOKUP(I9,'Point Values'!$A:$B,2,FALSE)","v":78},0,{"$f":"VLOOKUP(K9,'Point Values'!$A:$B,2,FALSE)","v":82},{"$f":"VLOOKUP(L9,'Point Values'!$A:$B,2,FALSE)","v":74}]
[8,15,"Logan Clark",null,470,10,10,13,9,11,11,8,null,null,{"$f":"VLOOKUP(F10,'Point Values'!$A:$B,2,FALSE)","v":78},{"$f":"VLOOKUP(G10,'Point Values'!$A:$B,2,FALSE)","v":78},0,{"$f":"VLOOKUP(I10,'Point Values'!$A:$B,2,FALSE)","v":80},{"$f":"VLOOKUP(J10,'Point Values'!$A:$B,2,FALSE)","v":76},{"$f":"VLOOKUP(K10,'Point Values'!$A:$B,2,FALSE)","v":76},{"$f":"VLOOKUP(L10,'Point Values'!$A:$B,2,FALSE)","v":82}]
[9,81,"Caleb Williams",null,456,11,".",9,11,14,10,11,null,null,{"$f":"VLOOKUP(F11,'Point Values'!$A:$B,2,FALSE)","v":76},{"$f":"VLOOKUP(G11,'Point Values'!$A:$B,2,FALSE)","v":0},{"$f":"VLOOKUP(H11,'Point Values'!$A:$B,2,FALSE)","v":80},{"$f":"VLOOKUP(I11,'Point Values'!$A:$B,2,FALSE)","v":76},{"$f":"VLOOKUP(J11,'Point Values'!$A:$B,2,FALSE)","v":70},{"$f":"VLOOKUP(K11,'Point Values'!$A:$B,2,FALSE)","v":78},{"$f":"VLOOKUP(L11,'Point Values'!$A:$B,2,FALSE)","v":76}]
[10,53,"Justin Gareis",null,452,3,14,14,3,2,2,".",null,null,{"$f":"VLOOKUP(F12,'Point Values'!$A:$B,2,FALSE)","v":94},0,{"$f":"VLOOKUP(H12,'Point Values'!$A:$B,2,FALSE)","v":70},{"$f":"VLOOKUP(I12,'Point Values'!$A:$B,2,FALSE)","v":94},{"$f":"VLOOKUP(J12,'Point Values'!$A:$B,2,FALSE)","v":97},{"$f":"VLOOKUP(K12,'Point Values'!$A:$B,2,FALSE)","v":97},{"$f":"VLOOKUP(L12,'Point Values'!$A:$B,2,FALSE)","v":0}]
[11,"5","Zac Fowler",null,427,".",".",4,7,9,7,5,null,null,{"$f":"VLOOKUP(F13,'Point Values'!$A:$B,2,FALSE)","v":0},{"$f":"VLOOKUP(G13,'Point Values'!$A:$B,2,FALSE)","v":0},{"$f":"VLOOKUP(H13,'Point Values'!$A:$B,2,FALSE)","v":91},{"$f":"VLOOKUP(I13,'Point Values'!$A:$B,2,FALSE)","v":84},{"$f":"VLOOKUP(J13,'Point Values'!$A:$B,2,FALSE)","v":80},{"$f":"VLOOKUP(K13,'Point Values'!$A:$B,2,FALSE)","v":84},{"$f":"VLOOKUP(L13,'Point Values'!$A:$B,2,FALSE)","v":88}]
[12,23,"Emily Hedstrom",null,384,12,12,10,".",10,".",9,null,null,{"$f":"VLOOKUP(F14,'Point Values'!$A:$B,2,FALSE)","v":74},{"$f":"VLOOKUP(G14,'Point Values'!$A:$B,2,FALSE)","v":74},{"$f":"VLOOKUP(H14,'Point Values'!$A:$B,2,FALSE)","v":78},{"$f":"VLOOKUP(I14,'Point Values'!$A:$B,2,FALSE)","v":0},{"$f":"VLOOKUP(J14,'Point Values'!$A:$B,2,FALSE)","v":78},{"$f":"VLOOKUP(K14,'Point Values'!$A:$B,2,FALSE)","v":0},{"$f":"VLOOKUP(L14,'Point Values'!$A:$B,2,FALSE)","v":80}]
[13,"56","Ethan Norfleet",null,308,9,8,12,13,".",".",".",null,null,{"$f":"VLOOKUP(F15,'Point Values'!$A:$B,2,FALSE)","v":80},{"$f":"VLOOKUP(G15,'Point Values'!$A:$B,2,FALSE)","v":82},{"$f":"VLOOKUP(H15,'Point Values'!$A:$B,2,FALSE)","v":74},{"$f":"VLOOKUP(I15,'Point Values'!$A:$B,2,FALSE)","v":72},{"$f":"VLOOKUP(J15,'Point Values'!$A:$B,2,FALSE)","v":0},{"$f":"VLOOKUP(K15,'Point Values'!$A:$B,2,FALSE)","v":0},{"$f":"VLOOKUP(L15,'Point Values'!$A:$B,2,FALSE)","v":0}]
[14,"99","Eric Brown",null,273,".",".",".",".",3,5,4,null,null,{"$f":"VLOOKUP(F16,'Point Values'!$A:$B,2,FALSE)","v":0},{"$f":"VLOOKUP(G16,'Point Values'!$A:$B,2,FALSE)","v":0},{"$f":"VLOOKUP(H16,'Point Values'!$A:$B,2,FALSE)","v":0},{"$f":"VLOOKUP(I16,'Point Values'!$A:$B,2,FALSE)","v":0},{"$f":"VLOOKUP(J16,'Point Values'!$A:$B,2,FALSE)","v":94},{"$f":"VLOOKUP(K16,'Point Values'!$A:$B,2,FALSE)","v":88},{"$f":"VLOOKUP(L16,'Point Values'!$A:$B,2,FALSE)","v":91}]
[15,"99","Jake Tretow",null,197,".",".",1,2,".",".",".",null,null,{"$f":"VLOOKUP(F17,'Point Values'!$A:$B,2,FALSE)","v":0},{"$f":"VLOOKUP(G17,'Point Values'!$A:$B,2,FALSE)","v":0},{"$f":"VLOOKUP(H17,'Point Values'!$A:$B,2,FALSE)","v":100},{"$f":"VLOOKUP(I17,'Point Values'!$A:$B,2,FALSE)","v":97},{"$f":"VLOOKUP(J17,'Point Values'!$A:$B,2,FALSE)","v":0},{"$f":"VLOOKUP(K17,'Point Values'!$A:$B,2,FALSE)","v":0},{"$f":"VLOOKUP(L17,'Point Values'!$A:$B,2,FALSE)","v":0}]
[16,"12","Garin Mash",null,172,13,1,".",".",".",".",".",null,null,{"$f":"VLOOKUP(F18,'Point Values'!$A:$B,2,FALSE)","v":72},{"$f":"VLOOKUP(G18,'Point Values'!$A:$B,2,FALSE)","v":100},{"$f":"VLOOKUP(H18,'Point Values'!$A:$B,2,FALSE)","v":0},{"$f":"VLOOKUP(I18,'Point Values'!$A:$B,2,FALSE)","v":0},{"$f":"VLOOKUP(J18,'Point Values'!$A:$B,2,FALSE)","v":0},{"$f":"VLOOKUP(K18,'Point Values'!$A:$B,2,FALSE)","v":0},{"$f":"VLOOKUP(L18,'Point Values'!$A:$B,2,FALSE)","v":0}]
[17,"17X","Parker Frazier",null,152,".",".",".",".",12,".",10,null,null,{"$f":"VLOOKUP(F19,'Point Values'!$A:$B,2,FALSE)","v":0},{"$f":"VLOOKUP(G19,'Point Values'!$A:$B,2,FALSE)","v":0},{"$f":"VLOOKUP(H19,'Point Values'!$A:$B,2,FALSE)","v":0},{"$f":"VLOOKUP(I19,'Point Values'!$A:$B,2,FALSE)","v":0},{"$f":"VLOOKUP(J19,'Point Values'!$A:$B,2,FALSE)","v":74},{"$f":"VLOOKUP(K19,'Point Values'!$A:$B,2,FALSE)","v":0},{"$f":"VLOOKUP(L19,'Point Values'!$A:$B,2,FALSE)","v":78}]
[18,"7","Ben Johnson",null,146,14,11,".",".",".",".",".",null,null,{"$f":"VLOOKUP(F20,'Point Values'!$A:$B,2,FALSE)","v":70},{"$f":"VLOOKUP(G20,'Point Values'!$A:$B,2,FALSE)","v":76},{"$f":"VLOOKUP(H20,'Point Values'!$A:$B,2,FALSE)","v":0},{"$f":"VLOOKUP(I20,'Point Values'!$A:$B,2,FALSE)","v":0},{"$f":"VLOOKUP(J20,'Point Values'!$A:$B,2,FALSE)","v":0},{"$f":"VLOOKUP(K20,'Point Values'!$A:$B,2,FALSE)","v":0},{"$f":"VLOOKUP(L20,'Point Values'!$A:$B,2,FALSE)","v":0}]
[19,"51","Ethan Johnson",null,80,".",9,".",".",".",".",".",null,null,{"$f":"VLOOKUP(F21,'Point Values'!$A:$B,2,FALSE)","v":0},{"$f":"VLOOKUP(G21,'Point Values'!$A:$B,2,FALSE)","v":80},{"$f":"VLOOKUP(H21,'Point Values'!$A:$B,2,FALSE)","v":0},{"$f":"VLOOKUP(I21,'Point Values'!$A:$B,2,FALSE)","v":0},{"$f":"VLOOKUP(J21,'Point Values'!$A:$B,2,FALSE)","v":0},{"$f":"VLOOKUP(K21,'Point Values'!$A:$B,2,FALSE)","v":0},{"$f":"VLOOKUP(L21,'Point Values'!$A:$B,2,FALSE)","v":0}]
[20]
["*Ties will be broken by:  1)  number of wins, 2)  number of 2nd places, 3) number of third place finishes, etc., until the tie is broken)."]

{"sheet":"Young Lions","index":3,"n_rows":28,"n_cols":22,"rows_kept":28,"cut":false,"hidden":false,"merged":[[0,0,0,23],[27,0,27,21]]}
["YOUNG LION - 2018 WINTER HEAT POINTS"]
["CHAMPIONSHIP STANDING","CAR NUMBER","DRIVERS NAME",null,"TOTAL POINTS","2017-12-16","2017-12-17","2017-01-13","2018-01-13","2018-01-20","2018-01-20","2018-01-27","2018-02-03",null,"2017-12-16","2017-12-17","2017-01-13","2018-01-13","2018-01-20","2018-01-20","2018-01-27","2018-02-03"]
[1,6,"Isaak Love",null,{"$f":"SUM(O3:V3)","v":682},1,5,6,1,3,1,1,1,null,{"$f":"VLOOKUP(F3,'Point Values'!$A:$B,2,FALSE)","v":100},{"$f":"VLOOKUP(G3,'Point Values'!$A:$B,2,FALSE)","v":88},0,{"$f":"VLOOKUP(I3,'Point Values'!$A:$B,2,FALSE)","v":100},{"$f":"VLOOKUP(J3,'Point Values'!$A:$B,2,FALSE)","v":94},{"$f":"VLOOKUP(K3,'Point Values'!$A:$B,2,FALSE)","v":100},{"$f":"VLOOKUP(L3,'Point Values'!$A:$B,2,FALSE)","v":100},{"$f":"VLOOKUP(M3,'Point Values'!$A:$B,2,FALSE)","v":100}]
[2,"52","Jak Crawford",null,673,2,3,2,3,1,3,3,2,null,{"$f":"VLOOKUP(F4,'Point Values'!$A:$B,2,FALSE)","v":97},0,{"$f":"VLOOKUP(H4,'Point Values'!$A:$B,2,FALSE)","v":97},{"$f":"VLOOKUP(I4,'Point Values'!$A:$B,2,FALSE)","v":94},{"$f":"VLOOKUP(J4,'Point Values'!$A:$B,2,FALSE)","v":100},{"$f":"VLOOKUP(K4,'Point Values'!$A:$B,2,FALSE)","v":94},{"$f":"VLOOKUP(L4,'Point Values'!$A:$B,2,FALSE)","v":94},{"$f":"VLOOKUP(M4,'Point Values'!$A:$B,2,FALSE)","v":97}]
[3,"22","Will Robusto",null,561,5,4,1,2,4,4,4,".",null,0,{"$f":"VLOOKUP(G5,'Point Values'!$A:$B,2,FALSE)","v":91},{"$f":"VLOOKUP(H5,'Point Values'!$A:$B,2,FALSE)","v":100},{"$f":"VLOOKUP(I5,'Point Values'!$A:$B,2,FALSE)","v":97},{"$f":"VLOOKUP(J5,'Point Values'!$A:$B,2,FALSE)","v":91},{"$f":"VLOOKUP(K5,'Point Values'!$A:$B,2,FALSE)","v":91},{"$f":"VLOOKUP(L5,'Point Values'!$A:$B,2,FALSE)","v":91},{"$f":"VLOOKUP(M5,'Point Values'!$A:$B,2,FALSE)","v":0}]
[4,"4","Leland Honeyman",null,557,13,1,".",".",2,2,2,3,null,{"$f":"VLOOKUP(F6,'Point Values'!$A:$B,2,FALSE)","v":72},{"$f":"VLOOKUP(G6,'Point Values'!$A:$B,2,FALSE)","v":100},{"$f":"VLOOKUP(H6,'Point Values'!$A:$B,2,FALSE)","v":0},{"$f":"VLOOKUP(I6,'Point Values'!$A:$B,2,FALSE)","v":0},{"$f":"VLOOKUP(J6,'Point Values'!$A:$B,2,FALSE)","v":97},{"$f":"VLOOKUP(K6,'Point Values'!$A:$B,2,FALSE)","v":97},{"$f":"VLOOKUP(L6,'Point Values'!$A:$B,2,FALSE)","v":97},{"$f":"VLOOKUP(M6,'Point Values'!$A:$B,2,FALSE)","v":94}]
[5,55,"Isabella Robusto",null,530,6,".",3,5,5,6,5,".",null,{"$f":"VLOOKUP(F7,'Point Values'!$A:$B,2,FALSE)","v":86},{"$f":"VLOOKUP(G7,'Point Values'!$A:$B,2,FALSE)","v":0},{"$f":"VLOOKUP(H7,'Point Values'!$A:$B,2,FALSE)","v":94},{"$f":"VLOOKUP(I7,'Point Values'!$A:$B,2,FALSE)","v":88},{"$f":"VLOOKUP(J7,'Point Values'!$A:$B,2,FALSE)","v":88},{"$f":"VLOOKUP(K7,'Point Values'!$A:$B,2,FALSE)","v":86},{"$f":"VLOOKUP(L7,'Point Values'!$A:$B,2,FALSE)","v":88},{"$f":"VLOOKUP(M7,'Point Values'!$A:$B,2,FALSE)","v":0}]
[6,"21T","Tristan Borkoski",null,498,12,7,9,6,6,5,".",".",null,{"$f":"VLOOKUP(F8,'Point Values'!$A:$B,2,FALSE)","v":74},{"$f":"VLOOKUP(G8,'Point Values'!$A:$B,2,FALSE)","v":84},{"$f":"VLOOKUP(H8,'Point Values'!$A:$B,2,FALSE)","v":80},{"$f":"VLOOKUP(I8,'Point Values'!$A:$B,2,FALSE)","v":86},{"$f":"VLOOKUP(J8,'Point Values'!$A:$B,2,FALSE)","v":86},{"$f":"VLOOKUP(K8,'Point Values'!$A:$B,2,FALSE)","v":88},{"$f":"VLOOKUP(L8,'Point Values'!$A:$B,2,FALSE)","v":0},{"$f":"VLOOKUP(M8,'Point Values'!$A:$B,2,FALSE)","v":0}]
[7,"77","Jason Alder",null,497,7,11,8,4,8,8,".",".",null,{"$f":"VLOOKUP(F9,'Point Values'!$A:$B,2,FALSE)","v":84},{"$f":"VLOOKUP(G9,'Point Values'!$A:$B,2,FALSE)","v":76},{"$f":"VLOOKUP(H9,'Point Values'!$A:$B,2,FALSE)","v":82},{"$f":"VLOOKUP(I9,'Point Values'!$A:$B,2,FALSE)","v":91},{"$f":"VLOOKUP(J9,'Point Values'!$A:$B,2,FALSE)","v":82},{"$f":"VLOOKUP(K9,'Point Values'!$A:$B,2,FALSE)","v":82},{"$f":"VLOOKUP(L9,'Point Values'!$A:$B,2,FALSE)","v":0},{"$f":"VLOOKUP(M9,'Point Values'!$A:$B,2,FALSE)","v":0}]
[8,"24","Bryson Ruff",null,491,10,12,4,9,7,7,".",".",null,{"$f":"VLOOKUP(F10,'Point Values'!$A:$B,2,FALSE)","v":78},{"$f":"VLOOKUP(G10,'Point Values'!$A:$B,2,FALSE)","v":74},{"$f":"VLOOKUP(H10,'Point Values'!$A:$B,2,FALSE)","v":91},{"$f":"VLOOKUP(I10,'Point Values'!$A:$B,2,FALSE)","v":80},{"$f":"VLOOKUP(J10,'Point Values'!$A:$B,2,FALSE)","v":84},{"$f":"VLOOKUP(K10,'Point Values'!$A:$B,2,FALSE)","v":84},{"$f":"VLOOKUP(L10,'Point Values'!$A:$B,2,FALSE)","v":0},{"$f":"VLOOKUP(M10,'Point Values'!$A:$B,2,FALSE)","v":0}]
[9,11,"David Sullivan",null,407,14,9,7,8,".",".",".",4,null,{"$f":"VLOOKUP(F11,'Point Values'!$A:$B,2,FALSE)","v":70},{"$f":"VLOOKUP(G11,'Point Values'!$A:$B,2,FALSE)","v":80},{"$f":"VLOOKUP(H11,'Point Values'!$A:$B,2,FALSE)","v":84},{"$f":"VLOOKUP(I11,'Point Values'!$A:$B,2,FALSE)","v":82},{"$f":"VLOOKUP(J11,'Point Values'!$A:$B,2,FALSE)","v":0},{"$f":"VLOOKUP(K11,'Point Values'!$A:$B,2,FALSE)","v":0},{"$f":"VLOOKUP(L11,'Point Values'!$A:$B,2,FALSE)","v":0},{"$f":"VLOOKUP(M11,'Point Values'!$A:$B,2,FALSE)","v":91}]
[10,17,"George Hayes",null,177,9,2,".",".",".",".",".",".",null,{"$f":"VLOOKUP(F12,'Point Values'!$A:$B,2,FALSE)","v":80},{"$f":"VLOOKUP(G12,'Point Values'!$A:$B,2,FALSE)","v":97},{"$f":"VLOOKUP(H12,'Point Values'!$A:$B,2,FALSE)","v":0},{"$f":"VLOOKUP(I12,'Point Values'!$A:$B,2,FALSE)","v":0},{"$f":"VLOOKUP(J12,'Point Values'!$A:$B,2,FALSE)","v":0},{"$f":"VLOOKUP(K12,'Point Values'!$A:$B,2,FALSE)","v":0},{"$f":"VLOOKUP(L12,'Point Values'!$A:$B,2,FALSE)","v":0},{"$f":"VLOOKUP(M12,'Point Values'!$A:$B,2,FALSE)","v":0}]
[11,99,"Clay Thompson",null,172,3,10,".",".",".",".",".",".",null,{"$f":"VLOOKUP(F13,'Point Values'!$A:$B,2,FALSE)","v":94},{"$f":"VLOOKUP(G13,'Point Values'!$A:$B,2,FALSE)","v":78},{"$f":"VLOOKUP(H13,'Point Values'!$A:$B,2,FALSE)","v":0},{"$f":"VLOOKUP(I13,'Point Values'!$A:$B,2,FALSE)","v":0},{"$f":"VLOOKUP(J13,'Point Values'!$A:$B,2,FALSE)","v":0},{"$f":"VLOOKUP(K13,'Point Values'!$A:$B,2,FALSE)","v":0},{"$f":"VLOOKUP(L13,'Point Values'!$A:$B,2,FALSE)","v":0},{"$f":"VLOOKUP(M13,'Point Values'!$A:$B,2,FALSE)","v":0}]
[12,2,"Trent Dockery",null,172,".",".",5,7,".",".",".",".",null,{"$f":"VLOOKUP(F14,'Point Values'!$A:$B,2,FALSE)","v":0},{"$f":"VLOOKUP(G14,'Point Values'!$A:$B,2,FALSE)","v":0},{"$f":"VLOOKUP(H14,'Point Values'!$A:$B,2,FALSE)","v":88},{"$f":"VLOOKUP(I14,'Point Values'!$A:$B,2,FALSE)","v":84},{"$f":"VLOOKUP(J14,'Point Values'!$A:$B,2,FALSE)","v":0},{"$f":"VLOOKUP(K14,'Point Values'!$A:$B,2,FALSE)","v":0},{"$f":"VLOOKUP(L14,'Point Values'!$A:$B,2,FALSE)","v":0},{"$f":"VLOOKUP(M14,'Point Values'!$A:$B,2,FALSE)","v":0}]
[13,10,"Janson Marchbanks",null,168,8,6,".",".",".",".",".",".",null,{"$f":"VLOOKUP(F15,'Point Values'!$A:$B,2,FALSE)","v":82},{"$f":"VLOOKUP(G15,'Point Values'!$A:$B,2,FALSE)","v":86},{"$f":"VLOOKUP(H15,'Point Values'!$A:$B,2,FALSE)","v":0},{"$f":"VLOOKUP(I15,'Point Values'!$A:$B,2,FALSE)","v":0},{"$f":"VLOOKUP(J15,'Point Values'!$A:$B,2,FALSE)","v":0},{"$f":"VLOOKUP(K15,'Point Values'!$A:$B,2,FALSE)","v":0},{"$f":"VLOOKUP(L15,'Point Values'!$A:$B,2,FALSE)","v":0},{"$f":"VLOOKUP(M15,'Point Values'!$A:$B,2,FALSE)","v":0}]
[14,"8","Tommy Good",null,158,11,8,".",".",".",".",".",".",null,{"$f":"VLOOKUP(F16,'Point Values'!$A:$B,2,FALSE)","v":76},{"$f":"VLOOKUP(G16,'Point Values'!$A:$B,2,FALSE)","v":82},{"$f":"VLOOKUP(H16,'Point Values'!$A:$B,2,FALSE)","v":0},{"$f":"VLOOKUP(I16,'Point Values'!$A:$B,2,FALSE)","v":0},{"$f":"VLOOKUP(J16,'Point Values'!$A:$B,2,FALSE)","v":0},{"$f":"VLOOKUP(K16,'Point Values'!$A:$B,2,FALSE)","v":0},{"$f":"VLOOKUP(L16,'Point Values'!$A:$B,2,FALSE)","v":0},{"$f":"VLOOKUP(M16,'Point Values'!$A:$B,2,FALSE)","v":0}]
[15,"56","Derrick Debbis",null,91,4,"DQ",".",".",".",".",".",".",null,{"$f":"VLOOKUP(F17,'Point Values'!$A:$B,2,FALSE)","v":91},{"$f":"VLOOKUP(G17,'Point Values'!$A:$B,2,FALSE)","v":0},{"$f":"VLOOKUP(H17,'Point Values'!$A:$B,2,FALSE)","v":0},{"$f":"VLOOKUP(I17,'Point Values'!$A:$B,2,FALSE)","v":0},{"$f":"VLOOKUP(J17,'Point Values'!$A:$B,2,FALSE)","v":0},{"$f":"VLOOKUP(K17,'Point Values'!$A:$B,2,FALSE)","v":0},{"$f":"VLOOKUP(L17,'Point Values'!$A:$B,2,FALSE)","v":0},{"$f":"VLOOKUP(M17,'Point Values'!$A:$B,2,FALSE)","v":0}]
[16,"8M","Matt Gaudreau",null,86,".",".",".",".",".",".",6,".",null,{"$f":"VLOOKUP(F18,'Point Values'!$A:$B,2,FALSE)","v":0},{"$f":"VLOOKUP(G18,'Point Values'!$A:$B,2,FALSE)","v":0},{"$f":"VLOOKUP(H18,'Point Values'!$A:$B,2,FALSE)","v":0},{"$f":"VLOOKUP(I18,'Point Values'!$A:$B,2,FALSE)","v":0},{"$f":"VLOOKUP(J18,'Point Values'!$A:$B,2,FALSE)","v":0},{"$f":"VLOOKUP(K18,'Point Values'!$A:$B,2,FALSE)","v":0},{"$f":"VLOOKUP(L18,'Point Values'!$A:$B,2,FALSE)","v":86},{"$f":"VLOOKUP(M18,'Point Values'!$A:$B,2,FALSE)","v":0}]
[17]
[18]
[19]
[20]
[21]
[22]
[23]
[24]
[25]
["*Ties will be broken by:  1)  number of wins, 2)  number of 2nd places, 3) number of third place finishes, etc., until the tie is broken)."]

{"sheet":"Semi Pro","index":4,"n_rows":37,"n_cols":22,"rows_kept":37,"cut":false,"hidden":false,"merged":[[0,0,0,23],[36,0,36,21]]}
["SEMI PRO - 2018 WINTER HEAT POINTS"]
["CHAMPIONSHIP STANDING","CAR NUMBER","DRIVERS NAME",null,"TOTAL POINTS","2017-12-16","2017-12-17","2017-01-13","2018-01-13","2018-01-20","2018-01-20","2018-01-27","2018-02-03",null,"2017-12-16","2017-12-17","2017-01-13","2018-01-13","2018-01-20","2018-01-20","2018-01-27","2018-02-03"]
[1,"14","Vincent Midas",null,{"$f":"SUM(O3:V3)","v":673},2,3,1,3,4,13,2,1,null,{"$f":"VLOOKUP(F3,'Point Values'!$A:$B,2,FALSE)","v":97},{"$f":"VLOOKUP(G3,'Point Values'!$A:$B,2,FALSE)","v":94},{"$f":"VLOOKUP(H3,'Point Values'!$A:$B,2,FALSE)","v":100},{"$f":"VLOOKUP(I3,'Point Values'!$A:$B,2,FALSE)","v":94},{"$f":"VLOOKUP(J3,'Point Values'!$A:$B,2,FALSE)","v":91},0,{"$f":"VLOOKUP(L3,'Point Values'!$A:$B,2,FALSE)","v":97},{"$f":"VLOOKUP(M3,'Point Values'!$A:$B,2,FALSE)","v":100}]
[2,"12S","Sammy Smith",null,670,8,1,15,2,3,1,1,2,null,{"$f":"VLOOKUP(F4,'Point Values'!$A:$B,2,FALSE)","v":82},{"$f":"VLOOKUP(G4,'Point Values'!$A:$B,2,FALSE)","v":100},0,{"$f":"VLOOKUP(I4,'Point Values'!$A:$B,2,FALSE)","v":97},{"$f":"VLOOKUP(J4,'Point Values'!$A:$B,2,FALSE)","v":94},{"$f":"VLOOKUP(K4,'Point Values'!$A:$B,2,FALSE)","v":100},{"$f":"VLOOKUP(L4,'Point Values'!$A:$B,2,FALSE)","v":100},{"$f":"VLOOKUP(M4,'Point Values'!$A:$B,2,FALSE)","v":97}]
[3,"22","Carter Weedon",null,661,22,8,2,1,1,2,3,4,null,0,{"$f":"VLOOKUP(G5,'Point Values'!$A:$B,2,FALSE)","v":82},{"$f":"VLOOKUP(H5,'Point Values'!$A:$B,2,FALSE)","v":97},{"$f":"VLOOKUP(I5,'Point Values'!$A:$B,2,FALSE)","v":100},{"$f":"VLOOKUP(J5,'Point Values'!$A:$B,2,FALSE)","v":100},{"$f":"VLOOKUP(K5,'Point Values'!$A:$B,2,FALSE)","v":97},{"$f":"VLOOKUP(L5,'Point Values'!$A:$B,2,FALSE)","v":94},{"$f":"VLOOKUP(M5,'Point Values'!$A:$B,2,FALSE)","v":91}]
[4,"18H","Ryan Heim",null,629,1,6,5,6,".",4,7,3,null,{"$f":"VLOOKUP(F6,'Point Values'!$A:$B,2,FALSE)","v":100},{"$f":"VLOOKUP(G6,'Point Values'!$A:$B,2,FALSE)","v":86},{"$f":"VLOOKUP(H6,'Point Values'!$A:$B,2,FALSE)","v":88},{"$f":"VLOOKUP(I6,'Point Values'!$A:$B,2,FALSE)","v":86},{"$f":"VLOOKUP(J6,'Point Values'!$A:$B,2,FALSE)","v":0},{"$f":"VLOOKUP(K6,'Point Values'!$A:$B,2,FALSE)","v":91},{"$f":"VLOOKUP(L6,'Point Values'!$A:$B,2,FALSE)","v":84},{"$f":"VLOOKUP(M6,'Point Values'!$A:$B,2,FALSE)","v":94}]
[5,"27","Glenn Korner",null,613,10,7,3,4,5,3,9,8,null,0,{"$f":"VLOOKUP(G7,'Point Values'!$A:$B,2,FALSE)","v":84},{"$f":"VLOOKUP(H7,'Point Values'!$A:$B,2,FALSE)","v":94},{"$f":"VLOOKUP(I7,'Point Values'!$A:$B,2,FALSE)","v":91},{"$f":"VLOOKUP(J7,'Point Values'!$A:$B,2,FALSE)","v":88},{"$f":"VLOOKUP(K7,'Point Values'!$A:$B,2,FALSE)","v":94},{"$f":"VLOOKUP(L7,'Point Values'!$A:$B,2,FALSE)","v":80},{"$f":"VLOOKUP(M7,'Point Values'!$A:$B,2,FALSE)","v":82}]
[6,"08B","Craig Biryla",null,587,5,".",4,7,6,12,10,6,null,{"$f":"VLOOKUP(F8,'Point Values'!$A:$B,2,FALSE)","v":88},{"$f":"VLOOKUP(G8,'Point Values'!$A:$B,2,FALSE)","v":0},{"$f":"VLOOKUP(H8,'Point Values'!$A:$B,2,FALSE)","v":91},{"$f":"VLOOKUP(I8,'Point Values'!$A:$B,2,FALSE)","v":84},{"$f":"VLOOKUP(J8,'Point Values'!$A:$B,2,FALSE)","v":86},{"$f":"VLOOKUP(K8,'Point Values'!$A:$B,2,FALSE)","v":74},{"$f":"VLOOKUP(L8,'Point Values'!$A:$B,2,FALSE)","v":78},{"$f":"VLOOKUP(M8,'Point Values'!$A:$B,2,FALSE)","v":86}]
[7,"11","Gracie Trotter",null,564,9,14,12,10,9,10,6,5,null,{"$f":"VLOOKUP(F9,'Point Values'!$A:$B,2,FALSE)","v":80},0,{"$f":"VLOOKUP(H9,'Point Values'!$A:$B,2,FALSE)","v":74},{"$f":"VLOOKUP(I9,'Point Values'!$A:$B,2,FALSE)","v":78},{"$f":"VLOOKUP(J9,'Point Values'!$A:$B,2,FALSE)","v":80},{"$f":"VLOOKUP(K9,'Point Values'!$A:$B,2,FALSE)","v":78},{"$f":"VLOOKUP(L9,'Point Values'!$A:$B,2,FALSE)","v":86},{"$f":"VLOOKUP(M9,'Point Values'!$A:$B,2,FALSE)","v":88}]
[8,"01","Cole Dockery",null,558,7,10,7,8,10,16,13,9,null,{"$f":"VLOOKUP(F10,'Point Values'!$A:$B,2,FALSE)","v":84},{"$f":"VLOOKUP(G10,'Point Values'!$A:$B,2,FALSE)","v":78},{"$f":"VLOOKUP(H10,'Point Values'!$A:$B,2,FALSE)","v":84},{"$f":"VLOOKUP(I10,'Point Values'!$A:$B,2,FALSE)","v":82},{"$f":"VLOOKUP(J10,'Point Values'!$A:$B,2,FALSE)","v":78},0,{"$f":"VLOOKUP(L10,'Point Values'!$A:$B,2,FALSE)","v":72},{"$f":"VLOOKUP(M10,'Point Values'!$A:$B,2,FALSE)","v":80}]
[9,"12","Mitchell Hedstrom",null,554,12,11,9,11,15,11,5,7,null,{"$f":"VLOOKUP(F11,'Point Values'!$A:$B,2,FALSE)","v":74},{"$f":"VLOOKUP(G11,'Point Values'!$A:$B,2,FALSE)","v":76},{"$f":"VLOOKUP(H11,'Point Values'!$A:$B,2,FALSE)","v":80},{"$f":"VLOOKUP(I11,'Point Values'!$A:$B,2,FALSE)","v":76},0,{"$f":"VLOOKUP(K11,'Point Values'!$A:$B,2,FALSE)","v":76},{"$f":"VLOOKUP(L11,'Point Values'!$A:$B,2,FALSE)","v":88},{"$f":"VLOOKUP(M11,'Point Values'!$A:$B,2,FALSE)","v":84}]
[10,"1","Tony Mangini",null,541,15,5,16,9,7,6,17,15,null,{"$f":"VLOOKUP(F12,'Point Values'!$A:$B,2,FALSE)","v":68},{"$f":"VLOOKUP(G12,'Point Values'!$A:$B,2,FALSE)","v":88},{"$f":"VLOOKUP(H12,'Point Values'!$A:$B,2,FALSE)","v":67},{"$f":"VLOOKUP(I12,'Point Values'!$A:$B,2,FALSE)","v":80},{"$f":"VLOOKUP(J12,'Point Values'!$A:$B,2,FALSE)","v":84},{"$f":"VLOOKUP(K12,'Point Values'!$A:$B,2,FALSE)","v":86},0,{"$f":"VLOOKUP(M12,'Point Values'!$A:$B,2,FALSE)","v":68}]
[11,"18M","Connor Mosack",null,523,3,4,18,5,2,5,".",".",null,{"$f":"VLOOKUP(F13,'Point Values'!$A:$B,2,FALSE)","v":94},{"$f":"VLOOKUP(G13,'Point Values'!$A:$B,2,FALSE)","v":91},{"$f":"VLOOKUP(H13,'Point Values'!$A:$B,2,FALSE)","v":65},{"$f":"VLOOKUP(I13,'Point Values'!$A:$B,2,FALSE)","v":88},{"$f":"VLOOKUP(J13,'Point Values'!$A:$B,2,FALSE)","v":97},{"$f":"VLOOKUP(K13,'Point Values'!$A:$B,2,FALSE)","v":88},{"$f":"VLOOKUP(L13,'Point Values'!$A:$B,2,FALSE)","v":0},{"$f":"VLOOKUP(M13,'Point Values'!$A:$B,2,FALSE)","v":0}]
[12,"6","Tristan Love",null,466,".",".",8,16,7,7,8,16,null,{"$f":"VLOOKUP(F14,'Point Values'!$A:$B,2,FALSE)","v":0},{"$f":"VLOOKUP(G14,'Point Values'!$A:$B,2,FALSE)","v":0},{"$f":"VLOOKUP(H14,'Point Values'!$A:$B,2,FALSE)","v":82},{"$f":"VLOOKUP(I14,'Point Values'!$A:$B,2,FALSE)","v":67},{"$f":"VLOOKUP(J14,'Point Values'!$A:$B,2,FALSE)","v":84},{"$f":"VLOOKUP(K14,'Point Values'!$A:$B,2,FALSE)","v":84},{"$f":"VLOOKUP(L14,'Point Values'!$A:$B,2,FALSE)","v":82},{"$f":"VLOOKUP(M14,'Point Values'!$A:$B,2,FALSE)","v":67}]
[13,"49","Carson Poindexter",null,442,".",".",10,12,13,15,12,11,null,{"$f":"VLOOKUP(F15,'Point Values'!$A:$B,2,FALSE)","v":0},{"$f":"VLOOKUP(G15,'Point Values'!$A:$B,2,FALSE)","v":0},{"$f":"VLOOKUP(H15,'Point Values'!$A:$B,2,FALSE)","v":78},{"$f":"VLOOKUP(I15,'Point Values'!$A:$B,2,FALSE)","v":74},{"$f":"VLOOKUP(J15,'Point Values'!$A:$B,2,FALSE)","v":72},{"$f":"VLOOKUP(K15,'Point Values'!$A:$B,2,FALSE)","v":68},{"$f":"VLOOKUP(L15,'Point Values'!$A:$B,2,FALSE)","v":74},{"$f":"VLOOKUP(M15,'Point Values'!$A:$B,2,FALSE)","v":76}]
[14,13,"Wes Burton",null,383,6,".",6,".",11,14,18,".",null,{"$f":"VLOOKUP(F16,'Point Values'!$A:$B,2,FALSE)","v":86},{"$f":"VLOOKUP(G16,'Point Values'!$A:$B,2,FALSE)","v":0},{"$f":"VLOOKUP(H16,'Point Values'!$A:$B,2,FALSE)","v":86},{"$f":"VLOOKUP(I16,'Point Values'!$A:$B,2,FALSE)","v":0},{"$f":"VLOOKUP(J16,'Point Values'!$A:$B,2,FALSE)","v":76},{"$f":"VLOOKUP(K16,'Point Values'!$A:$B,2,FALSE)","v":70},{"$f":"VLOOKUP(L16,'Point Values'!$A:$B,2,FALSE)","v":65},{"$f":"VLOOKUP(M16,'Point Values'!$A:$B,2,FALSE)","v":0}]
[15,"81","Lee Jordan",null,310,".",".",11,14,8,8,".",".",null,{"$f":"VLOOKUP(F17,'Point Values'!$A:$B,2,FALSE)","v":0},{"$f":"VLOOKUP(G17,'Point Values'!$A:$B,2,FALSE)","v":0},{"$f":"VLOOKUP(H17,'Point Values'!$A:$B,2,FALSE)","v":76},{"$f":"VLOOKUP(I17,'Point Values'!$A:$B,2,FALSE)","v":70},{"$f":"VLOOKUP(J17,'Point Values'!$A:$B,2,FALSE)","v":82},{"$f":"VLOOKUP(K17,'Point Values'!$A:$B,2,FALSE)","v":82},{"$f":"VLOOKUP(L17,'Point Values'!$A:$B,2,FALSE)","v":0},{"$f":"VLOOKUP(M17,'Point Values'!$A:$B,2,FALSE)","v":0}]
[16,"14O","Ryo Ogata",null,308,".",".",".",".",12,9,11,10,null,{"$f":"VLOOKUP(F18,'Point Values'!$A:$B,2,FALSE)","v":0},{"$f":"VLOOKUP(G18,'Point Values'!$A:$B,2,FALSE)","v":0},{"$f":"VLOOKUP(H18,'Point Values'!$A:$B,2,FALSE)","v":0},{"$f":"VLOOKUP(I18,'Point Values'!$A:$B,2,FALSE)","v":0},{"$f":"VLOOKUP(J18,'Point Values'!$A:$B,2,FALSE)","v":74},{"$f":"VLOOKUP(K18,'Point Values'!$A:$B,2,FALSE)","v":80},{"$f":"VLOOKUP(L18,'Point Values'!$A:$B,2,FALSE)","v":76},{"$f":"VLOOKUP(M18,'Point Values'!$A:$B,2,FALSE)","v":78}]
[17,"17M","Daniel Knight",null,214,".",".",14,13,".",".",".",13,null,{"$f":"VLOOKUP(F19,'Point Values'!$A:$B,2,FALSE)","v":0},{"$f":"VLOOKUP(G19,'Point Values'!$A:$B,2,FALSE)","v":0},{"$f":"VLOOKUP(H19,'Point Values'!$A:$B,2,FALSE)","v":70},{"$f":"VLOOKUP(I19,'Point Values'!$A:$B,2,FALSE)","v":72},{"$f":"VLOOKUP(J19,'Point Values'!$A:$B,2,FALSE)","v":0},{"$f":"VLOOKUP(K19,'Point Values'!$A:$B,2,FALSE)","v":0},{"$f":"VLOOKUP(L19,'Point Values'!$A:$B,2,FALSE)","v":0},{"$f":"VLOOKUP(M19,'Point Values'!$A:$B,2,FALSE)","v":72}]
[18,"83","Chris Honeycutt",null,165,4,12,".",".",".",".",".",".",null,{"$f":"VLOOKUP(F20,'Point Values'!$A:$B,2,FALSE)","v":91},{"$f":"VLOOKUP(G20,'Point Values'!$A:$B,2,FALSE)","v":74},{"$f":"VLOOKUP(H20,'Point Values'!$A:$B,2,FALSE)","v":0},{"$f":"VLOOKUP(I20,'Point Values'!$A:$B,2,FALSE)","v":0},{"$f":"VLOOKUP(J20,'Point Values'!$A:$B,2,FALSE)","v":0},{"$f":"VLOOKUP(K20,'Point Values'!$A:$B,2,FALSE)","v":0},{"$f":"VLOOKUP(L20,'Point Values'!$A:$B,2,FALSE)","v":0},{"$f":"VLOOKUP(M20,'Point Values'!$A:$B,2,FALSE)","v":0}]
[19,"00","Andrew Dollar",null,163,17,2,".",".",".",".",".",".",null,{"$f":"VLOOKUP(F21,'Point Values'!$A:$B,2,FALSE)","v":66},{"$f":"VLOOKUP(G21,'Point Values'!$A:$B,2,FALSE)","v":97},{"$f":"VLOOKUP(H21,'Point Values'!$A:$B,2,FALSE)","v":0},{"$f":"VLOOKUP(I21,'Point Values'!$A:$B,2,FALSE)","v":0},{"$f":"VLOOKUP(J21,'Point Values'!$A:$B,2,FALSE)","v":0},{"$f":"VLOOKUP(K21,'Point Values'!$A:$B,2,FALSE)","v":0},{"$f":"VLOOKUP(L21,'Point Values'!$A:$B,2,FALSE)","v":0},{"$f":"VLOOKUP(M21,'Point Values'!$A:$B,2,FALSE)","v":0}]
[20,"98","Cal Stewart",null,152,13,9,".",".",".",".",".",".",null,{"$f":"VLOOKUP(F22,'Point Values'!$A:$B,2,FALSE)","v":72},{"$f":"VLOOKUP(G22,'Point Values'!$A:$B,2,FALSE)","v":80},{"$f":"VLOOKUP(H22,'Point Values'!$A:$B,2,FALSE)","v":0},{"$f":"VLOOKUP(I22,'Point Values'!$A:$B,2,FALSE)","v":0},{"$f":"VLOOKUP(J22,'Point Values'!$A:$B,2,FALSE)","v":0},{"$f":"VLOOKUP(K22,'Point Values'!$A:$B,2,FALSE)","v":0},{"$f":"VLOOKUP(L22,'Point Values'!$A:$B,2,FALSE)","v":0},{"$f":"VLOOKUP(M22,'Point Values'!$A:$B,2,FALSE)","v":0}]
[21,"7","Adam Berberich",null,148,11,13,".",".",".",".",".",".",null,{"$f":"VLOOKUP(F23,'Point Values'!$A:$B,2,FALSE)","v":76},{"$f":"VLOOKUP(G23,'Point Values'!$A:$B,2,FALSE)","v":72},{"$f":"VLOOKUP(H23,'Point Values'!$A:$B,2,FALSE)","v":0},{"$f":"VLOOKUP(I23,'Point Values'!$A:$B,2,FALSE)","v":0},{"$f":"VLOOKUP(J23,'Point Values'!$A:$B,2,FALSE)","v":0},{"$f":"VLOOKUP(K23,'Point Values'!$A:$B,2,FALSE)","v":0},{"$f":"VLOOKUP(L23,'Point Values'!$A:$B,2,FALSE)","v":0},{"$f":"VLOOKUP(M23,'Point Values'!$A:$B,2,FALSE)","v":0}]
[22,"22D","Ryan DeMartini",null,142,".",".",".",".",".",".",15,12,null,{"$f":"VLOOKUP(F24,'Point Values'!$A:$B,2,FALSE)","v":0},{"$f":"VLOOKUP(G24,'Point Values'!$A:$B,2,FALSE)","v":0},{"$f":"VLOOKUP(H24,'Point Values'!$A:$B,2,FALSE)","v":0},{"$f":"VLOOKUP(I24,'Point Values'!$A:$B,2,FALSE)","v":0},{"$f":"VLOOKUP(J24,'Point Values'!$A:$B,2,FALSE)","v":0},{"$f":"VLOOKUP(K24,'Point Values'!$A:$B,2,FALSE)","v":0},{"$f":"VLOOKUP(L24,'Point Values'!$A:$B,2,FALSE)","v":68},{"$f":"VLOOKUP(M24,'Point Values'!$A:$B,2,FALSE)","v":74}]
[23,"53","Zach Helms",null,137,".",".",".",".",".",".",16,14,null,{"$f":"VLOOKUP(F25,'Point Values'!$A:$B,2,FALSE)","v":0},{"$f":"VLOOKUP(G25,'Point Values'!$A:$B,2,FALSE)","v":0},{"$f":"VLOOKUP(H25,'Point Values'!$A:$B,2,FALSE)","v":0},{"$f":"VLOOKUP(I25,'Point Values'!$A:$B,2,FALSE)","v":0},{"$f":"VLOOKUP(J25,'Point Values'!$A:$B,2,FALSE)","v":0},{"$f":"VLOOKUP(K25,'Point Values'!$A:$B,2,FALSE)","v":0},{"$f":"VLOOKUP(L25,'Point Values'!$A:$B,2,FALSE)","v":67},{"$f":"VLOOKUP(M25,'Point Values'!$A:$B,2,FALSE)","v":70}]
[24,"8","Gerad Miller",null,134,".",".",17,15,".",".",".",".",null,{"$f":"VLOOKUP(F26,'Point Values'!$A:$B,2,FALSE)","v":0},{"$f":"VLOOKUP(G26,'Point Values'!$A:$B,2,FALSE)","v":0},{"$f":"VLOOKUP(H26,'Point Values'!$A:$B,2,FALSE)","v":66},{"$f":"VLOOKUP(I26,'Point Values'!$A:$B,2,FALSE)","v":68},{"$f":"VLOOKUP(J26,'Point Values'!$A:$B,2,FALSE)","v":0},{"$f":"VLOOKUP(K26,'Point Values'!$A:$B,2,FALSE)","v":0},{"$f":"VLOOKUP(L26,'Point Values'!$A:$B,2,FALSE)","v":0},{"$f":"VLOOKUP(M26,'Point Values'!$A:$B,2,FALSE)","v":0}]
[25,"08Q","Kody Quinn",null,133,18,15,".",".",".",".",".",".",null,{"$f":"VLOOKUP(F27,'Point Values'!$A:$B,2,FALSE)","v":65},{"$f":"VLOOKUP(G27,'Point Values'!$A:$B,2,FALSE)","v":68},{"$f":"VLOOKUP(H27,'Point Values'!$A:$B,2,FALSE)","v":0},{"$f":"VLOOKUP(I27,'Point Values'!$A:$B,2,FALSE)","v":0},{"$f":"VLOOKUP(J27,'Point Values'!$A:$B,2,FALSE)","v":0},{"$f":"VLOOKUP(K27,'Point Values'!$A:$B,2,FALSE)","v":0},{"$f":"VLOOKUP(L27,'Point Values'!$A:$B,2,FALSE)","v":0},{"$f":"VLOOKUP(M27,'Point Values'!$A:$B,2,FALSE)","v":0}]
[26,5,"Cody Fredreicks",null,129,21,16,".",".",".",".",".",".",null,{"$f":"VLOOKUP(F28,'Point Values'!$A:$B,2,FALSE)","v":62},{"$f":"VLOOKUP(G28,'Point Values'!$A:$B,2,FALSE)","v":67},{"$f":"VLOOKUP(H28,'Point Values'!$A:$B,2,FALSE)","v":0},{"$f":"VLOOKUP(I28,'Point Values'!$A:$B,2,FALSE)","v":0},{"$f":"VLOOKUP(J28,'Point Values'!$A:$B,2,FALSE)","v":0},{"$f":"VLOOKUP(K28,'Point Values'!$A:$B,2,FALSE)","v":0},{"$f":"VLOOKUP(L28,'Point Values'!$A:$B,2,FALSE)","v":0},{"$f":"VLOOKUP(M28,'Point Values'!$A:$B,2,FALSE)","v":0}]
[27,"99XL","Nate Tretow",null,91,".",".",".",".",".",".",4,"DQ",null,{"$f":"VLOOKUP(F29,'Point Values'!$A:$B,2,FALSE)","v":0},{"$f":"VLOOKUP(G29,'Point Values'!$A:$B,2,FALSE)","v":0},{"$f":"VLOOKUP(H29,'Point Values'!$A:$B,2,FALSE)","v":0},{"$f":"VLOOKUP(I29,'Point Values'!$A:$B,2,FALSE)","v":0},{"$f":"VLOOKUP(J29,'Point Values'!$A:$B,2,FALSE)","v":0},{"$f":"VLOOKUP(K29,'Point Values'!$A:$B,2,FALSE)","v":0},{"$f":"VLOOKUP(L29,'Point Values'!$A:$B,2,FALSE)","v":91},{"$f":"VLOOKUP(M29,'Point Values'!$A:$B,2,FALSE)","v":0}]
[28,"860","DJ Canipe",null,72,".",".",13,".",".",".",".",".",null,{"$f":"VLOOKUP(F30,'Point Values'!$A:$B,2,FALSE)","v":0},{"$f":"VLOOKUP(G30,'Point Values'!$A:$B,2,FALSE)","v":0},{"$f":"VLOOKUP(H30,'Point Values'!$A:$B,2,FALSE)","v":72},{"$f":"VLOOKUP(I30,'Point Values'!$A:$B,2,FALSE)","v":0},{"$f":"VLOOKUP(J30,'Point Values'!$A:$B,2,FALSE)","v":0},{"$f":"VLOOKUP(K30,'Point Values'!$A:$B,2,FALSE)","v":0},{"$f":"VLOOKUP(L30,'Point Values'!$A:$B,2,FALSE)","v":0},{"$f":"VLOOKUP(M30,'Point Values'!$A:$B,2,FALSE)","v":0}]
[29,"99","Dustin Coonsfield",null,70,14,".",".",".",".",".",".",".",null,{"$f":"VLOOKUP(F31,'Point Values'!$A:$B,2,FALSE)","v":70},{"$f":"VLOOKUP(G31,'Point Values'!$A:$B,2,FALSE)","v":0},{"$f":"VLOOKUP(H31,'Point Values'!$A:$B,2,FALSE)","v":0},{"$f":"VLOOKUP(I31,'Point Values'!$A:$B,2,FALSE)","v":0},{"$f":"VLOOKUP(J31,'Point Values'!$A:$B,2,FALSE)","v":0},{"$f":"VLOOKUP(K31,'Point Values'!$A:$B,2,FALSE)","v":0},{"$f":"VLOOKUP(L31,'Point Values'!$A:$B,2,FALSE)","v":0},{"$f":"VLOOKUP(M31,'Point Values'!$A:$B,2,FALSE)","v":0}]
[30,"22V","Ryan Vargas",null,70,".",".",".",".",".",".",14,".",null,{"$f":"VLOOKUP(F32,'Point Values'!$A:$B,2,FALSE)","v":0},{"$f":"VLOOKUP(G32,'Point Values'!$A:$B,2,FALSE)","v":0},{"$f":"VLOOKUP(H32,'Point Values'!$A:$B,2,FALSE)","v":0},{"$f":"VLOOKUP(I32,'Point Values'!$A:$B,2,FALSE)","v":0},{"$f":"VLOOKUP(J32,'Point Values'!$A:$B,2,FALSE)","v":0},{"$f":"VLOOKUP(K32,'Point Values'!$A:$B,2,FALSE)","v":0},{"$f":"VLOOKUP(L32,'Point Values'!$A:$B,2,FALSE)","v":70},{"$f":"VLOOKUP(M32,'Point Values'!$A:$B,2,FALSE)","v":0}]
[31,"07","Jesse Hilger",null,67,16,".",".",".",".",".",".",".",null,{"$f":"VLOOKUP(F33,'Point Values'!$A:$B,2,FALSE)","v":67},{"$f":"VLOOKUP(G33,'Point Values'!$A:$B,2,FALSE)","v":0},{"$f":"VLOOKUP(H33,'Point Values'!$A:$B,2,FALSE)","v":0},{"$f":"VLOOKUP(I33,'Point Values'!$A:$B,2,FALSE)","v":0},{"$f":"VLOOKUP(J33,'Point Values'!$A:$B,2,FALSE)","v":0},{"$f":"VLOOKUP(K33,'Point Values'!$A:$B,2,FALSE)","v":0},{"$f":"VLOOKUP(L33,'Point Values'!$A:$B,2,FALSE)","v":0},{"$f":"VLOOKUP(M33,'Point Values'!$A:$B,2,FALSE)","v":0}]
[32,"25","Dustin Honeycutt",null,64,19,".",".",".",".",".",".",".",null,{"$f":"VLOOKUP(F34,'Point Values'!$A:$B,2,FALSE)","v":64},{"$f":"VLOOKUP(G34,'Point Values'!$A:$B,2,FALSE)","v":0},{"$f":"VLOOKUP(H34,'Point Values'!$A:$B,2,FALSE)","v":0},{"$f":"VLOOKUP(I34,'Point Values'!$A:$B,2,FALSE)","v":0},{"$f":"VLOOKUP(J34,'Point Values'!$A:$B,2,FALSE)","v":0},{"$f":"VLOOKUP(K34,'Point Values'!$A:$B,2,FALSE)","v":0},{"$f":"VLOOKUP(L34,'Point Values'!$A:$B,2,FALSE)","v":0},{"$f":"VLOOKUP(M34,'Point Values'!$A:$B,2,FALSE)","v":0}]
[33,"31","Jason Treschl",null,63,20,".",".",".",".",".",".",".",null,{"$f":"VLOOKUP(F35,'Point Values'!$A:$B,2,FALSE)","v":63},{"$f":"VLOOKUP(G35,'Point Values'!$A:$B,2,FALSE)","v":0},{"$f":"VLOOKUP(H35,'Point Values'!$A:$B,2,FALSE)","v":0},{"$f":"VLOOKUP(I35,'Point Values'!$A:$B,2,FALSE)","v":0},{"$f":"VLOOKUP(J35,'Point Values'!$A:$B,2,FALSE)","v":0},{"$f":"VLOOKUP(K35,'Point Values'!$A:$B,2,FALSE)","v":0},{"$f":"VLOOKUP(L35,'Point Values'!$A:$B,2,FALSE)","v":0},{"$f":"VLOOKUP(M35,'Point Values'!$A:$B,2,FALSE)","v":0}]
[]
["*Ties will be broken by:  1)  number of wins, 2)  number of 2nd places, 3) number of third place finishes, etc., until the tie is broken)."]

{"sheet":"Masters","index":5,"n_rows":23,"n_cols":22,"rows_kept":23,"cut":false,"hidden":false,"merged":[[0,0,0,23],[22,0,22,21]]}
["MASTER - 2018 WINTER HEAT POINTS"]
["CHAMPIONSHIP STANDING","CAR NUMBER","DRIVERS NAME",null,"TOTAL POINTS","2017-12-16","2017-12-17","2017-01-13","2018-01-13","2018-01-20","2018-01-20","2018-01-27","2018-02-03",null,"2017-12-16","2017-12-17","2017-01-13","2018-01-13","2018-01-20","2018-01-20","2018-01-27","2018-02-03"]
[1,"58","Carl Cormier",null,{"$f":"SUM(O3:V3)","v":697},1,3,1,1,2,1,1,1,null,{"$f":"VLOOKUP(F3,'Point Values'!$A:$B,2,FALSE)","v":100},0,{"$f":"VLOOKUP(H3,'Point Values'!$A:$B,2,FALSE)","v":100},{"$f":"VLOOKUP(I3,'Point Values'!$A:$B,2,FALSE)","v":100},{"$f":"VLOOKUP(J3,'Point Values'!$A:$B,2,FALSE)","v":97},{"$f":"VLOOKUP(K3,'Point Values'!$A:$B,2,FALSE)","v":100},{"$f":"VLOOKUP(L3,'Point Values'!$A:$B,2,FALSE)","v":100},{"$f":"VLOOKUP(M3,'Point Values'!$A:$B,2,FALSE)","v":100}]
[2,"50","Todd Midas",null,{"$f":"SUM(O4:V4)","v":655},5,1,3,2,8,4,5,2,null,{"$f":"VLOOKUP(F4,'Point Values'!$A:$B,2,FALSE)","v":88},{"$f":"VLOOKUP(G4,'Point Values'!$A:$B,2,FALSE)","v":100},{"$f":"VLOOKUP(H4,'Point Values'!$A:$B,2,FALSE)","v":94},{"$f":"VLOOKUP(I4,'Point Values'!$A:$B,2,FALSE)","v":97},0,{"$f":"VLOOKUP(K4,'Point Values'!$A:$B,2,FALSE)","v":91},{"$f":"VLOOKUP(L4,'Point Values'!$A:$B,2,FALSE)","v":88},{"$f":"VLOOKUP(M4,'Point Values'!$A:$B,2,FALSE)","v":97}]
[3,"02","Sal Jimenez",null,{"$f":"SUM(O5:V5)","v":601},7,7,5,4,7,7,8,6,null,{"$f":"VLOOKUP(F5,'Point Values'!$A:$B,2,FALSE)","v":84},{"$f":"VLOOKUP(G5,'Point Values'!$A:$B,2,FALSE)","v":84},{"$f":"VLOOKUP(H5,'Point Values'!$A:$B,2,FALSE)","v":88},{"$f":"VLOOKUP(I5,'Point Values'!$A:$B,2,FALSE)","v":91},{"$f":"VLOOKUP(J5,'Point Values'!$A:$B,2,FALSE)","v":84},{"$f":"VLOOKUP(K5,'Point Values'!$A:$B,2,FALSE)","v":84},0,{"$f":"VLOOKUP(M5,'Point Values'!$A:$B,2,FALSE)","v":86}]
[4,22,"Dewayne Holder",null,{"$f":"SUM(O6:V6)","v":541},9,6,4,3,"DQ",5,4,4,null,0,{"$f":"VLOOKUP(G6,'Point Values'!$A:$B,2,FALSE)","v":86},{"$f":"VLOOKUP(H6,'Point Values'!$A:$B,2,FALSE)","v":91},{"$f":"VLOOKUP(I6,'Point Values'!$A:$B,2,FALSE)","v":94},{"$f":"VLOOKUP(J6,'Point Values'!$A:$B,2,FALSE)","v":0},{"$f":"VLOOKUP(K6,'Point Values'!$A:$B,2,FALSE)","v":88},{"$f":"VLOOKUP(L6,'Point Values'!$A:$B,2,FALSE)","v":91},{"$f":"VLOOKUP(M6,'Point Values'!$A:$B,2,FALSE)","v":91}]
[5,9,"Bob Conner",null,{"$f":"SUM(O7:V7)","v":527},".",".",2,5,5,9,6,5,null,{"$f":"VLOOKUP(F7,'Point Values'!$A:$B,2,FALSE)","v":0},{"$f":"VLOOKUP(G7,'Point Values'!$A:$B,2,FALSE)","v":0},{"$f":"VLOOKUP(H7,'Point Values'!$A:$B,2,FALSE)","v":97},{"$f":"VLOOKUP(I7,'Point Values'!$A:$B,2,FALSE)","v":88},{"$f":"VLOOKUP(J7,'Point Values'!$A:$B,2,FALSE)","v":88},{"$f":"VLOOKUP(K7,'Point Values'!$A:$B,2,FALSE)","v":80},{"$f":"VLOOKUP(L7,'Point Values'!$A:$B,2,FALSE)","v":86},{"$f":"VLOOKUP(M7,'Point Values'!$A:$B,2,FALSE)","v":88}]
[6,"36","Craig Bruce",null,{"$f":"SUM(O8:V8)","v":476},2,2,".",".",3,3,3,".",null,{"$f":"VLOOKUP(F8,'Point Values'!$A:$B,2,FALSE)","v":97},{"$f":"VLOOKUP(G8,'Point Values'!$A:$B,2,FALSE)","v":97},{"$f":"VLOOKUP(H8,'Point Values'!$A:$B,2,FALSE)","v":0},{"$f":"VLOOKUP(I8,'Point Values'!$A:$B,2,FALSE)","v":0},{"$f":"VLOOKUP(J8,'Point Values'!$A:$B,2,FALSE)","v":94},{"$f":"VLOOKUP(K8,'Point Values'!$A:$B,2,FALSE)","v":94},{"$f":"VLOOKUP(L8,'Point Values'!$A:$B,2,FALSE)","v":94},{"$f":"VLOOKUP(M8,'Point Values'!$A:$B,2,FALSE)","v":0}]
[7,"13","Jack Green",null,{"$f":"SUM(O9:V9)","v":342},".",".",6,".",6,6,7,".",null,{"$f":"VLOOKUP(F9,'Point Values'!$A:$B,2,FALSE)","v":0},{"$f":"VLOOKUP(G9,'Point Values'!$A:$B,2,FALSE)","v":0},{"$f":"VLOOKUP(H9,'Point Values'!$A:$B,2,FALSE)","v":86},{"$f":"VLOOKUP(I9,'Point Values'!$A:$B,2,FALSE)","v":0},{"$f":"VLOOKUP(J9,'Point Values'!$A:$B,2,FALSE)","v":86},{"$f":"VLOOKUP(K9,'Point Values'!$A:$B,2,FALSE)","v":86},{"$f":"VLOOKUP(L9,'Point Values'!$A:$B,2,FALSE)","v":84},{"$f":"VLOOKUP(M9,'Point Values'!$A:$B,2,FALSE)","v":0}]
[8,"23S","Sean Buffington",null,{"$f":"SUM(O10:V10)","v":294},".",".",".",".",1,2,2,".",null,{"$f":"VLOOKUP(F10,'Point Values'!$A:$B,2,FALSE)","v":0},{"$f":"VLOOKUP(G10,'Point Values'!$A:$B,2,FALSE)","v":0},{"$f":"VLOOKUP(H10,'Point Values'!$A:$B,2,FALSE)","v":0},{"$f":"VLOOKUP(I10,'Point Values'!$A:$B,2,FALSE)","v":0},{"$f":"VLOOKUP(J10,'Point Values'!$A:$B,2,FALSE)","v":100},{"$f":"VLOOKUP(K10,'Point Values'!$A:$B,2,FALSE)","v":97},{"$f":"VLOOKUP(L10,'Point Values'!$A:$B,2,FALSE)","v":97},{"$f":"VLOOKUP(M10,'Point Values'!$A:$B,2,FALSE)","v":0}]
[9,"21","Karl Moberg",null,{"$f":"SUM(O11:V11)","v":182},3,5,".",".",".",".",".",".",null,{"$f":"VLOOKUP(F11,'Point Values'!$A:$B,2,FALSE)","v":94},{"$f":"VLOOKUP(G11,'Point Values'!$A:$B,2,FALSE)","v":88},{"$f":"VLOOKUP(H11,'Point Values'!$A:$B,2,FALSE)","v":0},{"$f":"VLOOKUP(I11,'Point Values'!$A:$B,2,FALSE)","v":0},{"$f":"VLOOKUP(J11,'Point Values'!$A:$B,2,FALSE)","v":0},{"$f":"VLOOKUP(K11,'Point Values'!$A:$B,2,FALSE)","v":0},{"$f":"VLOOKUP(L11,'Point Values'!$A:$B,2,FALSE)","v":0},{"$f":"VLOOKUP(M11,'Point Values'!$A:$B,2,FALSE)","v":0}]
[10,"33","Scott Wessel",null,{"$f":"SUM(O12:V12)","v":177},6,4,".",".",".",".",".",".",null,{"$f":"VLOOKUP(F12,'Point Values'!$A:$B,2,FALSE)","v":86},{"$f":"VLOOKUP(G12,'Point Values'!$A:$B,2,FALSE)","v":91},{"$f":"VLOOKUP(H12,'Point Values'!$A:$B,2,FALSE)","v":0},{"$f":"VLOOKUP(I12,'Point Values'!$A:$B,2,FALSE)","v":0},{"$f":"VLOOKUP(J12,'Point Values'!$A:$B,2,FALSE)","v":0},{"$f":"VLOOKUP(K12,'Point Values'!$A:$B,2,FALSE)","v":0},{"$f":"VLOOKUP(L12,'Point Values'!$A:$B,2,FALSE)","v":0},{"$f":"VLOOKUP(M12,'Point Values'!$A:$B,2,FALSE)","v":0}]
[11,"7","Taka Taka",null,{"$f":"SUM(O13:V13)","v":173},".",".",".",".",4,8,".",".",null,{"$f":"VLOOKUP(F13,'Point Values'!$A:$B,2,FALSE)","v":0},{"$f":"VLOOKUP(G13,'Point Values'!$A:$B,2,FALSE)","v":0},{"$f":"VLOOKUP(H13,'Point Values'!$A:$B,2,FALSE)","v":0},{"$f":"VLOOKUP(I13,'Point Values'!$A:$B,2,FALSE)","v":0},{"$f":"VLOOKUP(J13,'Point Values'!$A:$B,2,FALSE)","v":91},{"$f":"VLOOKUP(K13,'Point Values'!$A:$B,2,FALSE)","v":82},{"$f":"VLOOKUP(L13,'Point Values'!$A:$B,2,FALSE)","v":0},{"$f":"VLOOKUP(M13,'Point Values'!$A:$B,2,FALSE)","v":0}]
[12,399,"Bob Weymouth",null,{"$f":"SUM(O14:V14)","v":94},".",".",".",".",".",".",".",3,null,{"$f":"VLOOKUP(F14,'Point Values'!$A:$B,2,FALSE)","v":0},{"$f":"VLOOKUP(G14,'Point Values'!$A:$B,2,FALSE)","v":0},{"$f":"VLOOKUP(H14,'Point Values'!$A:$B,2,FALSE)","v":0},{"$f":"VLOOKUP(I14,'Point Values'!$A:$B,2,FALSE)","v":0},{"$f":"VLOOKUP(J14,'Point Values'!$A:$B,2,FALSE)","v":0},{"$f":"VLOOKUP(K14,'Point Values'!$A:$B,2,FALSE)","v":0},{"$f":"VLOOKUP(L14,'Point Values'!$A:$B,2,FALSE)","v":0},{"$f":"VLOOKUP(M14,'Point Values'!$A:$B,2,FALSE)","v":94}]
[13,"53","Bruce Silver",null,{"$f":"SUM(O15:V15)","v":91},4,".",".",".",".",".",".",".",null,{"$f":"VLOOKUP(F15,'Point Values'!$A:$B,2,FALSE)","v":91},{"$f":"VLOOKUP(G15,'Point Values'!$A:$B,2,FALSE)","v":0},{"$f":"VLOOKUP(H15,'Point Values'!$A:$B,2,FALSE)","v":0},{"$f":"VLOOKUP(I15,'Point Values'!$A:$B,2,FALSE)","v":0},{"$f":"VLOOKUP(J15,'Point Values'!$A:$B,2,FALSE)","v":0},{"$f":"VLOOKUP(K15,'Point Values'!$A:$B,2,FALSE)","v":0},{"$f":"VLOOKUP(L15,'Point Values'!$A:$B,2,FALSE)","v":0},{"$f":"VLOOKUP(M15,'Point Values'!$A:$B,2,FALSE)","v":0}]
[14,"42","Patrick Moore",null,{"$f":"SUM(O16:V16)","v":82},8,".",".",".",".",".",".",".",null,{"$f":"VLOOKUP(F16,'Point Values'!$A:$B,2,FALSE)","v":82},{"$f":"VLOOKUP(G16,'Point Values'!$A:$B,2,FALSE)","v":0},{"$f":"VLOOKUP(H16,'Point Values'!$A:$B,2,FALSE)","v":0},{"$f":"VLOOKUP(I16,'Point Values'!$A:$B,2,FALSE)","v":0},{"$f":"VLOOKUP(J16,'Point Values'!$A:$B,2,FALSE)","v":0},{"$f":"VLOOKUP(K16,'Point Values'!$A:$B,2,FALSE)","v":0},{"$f":"VLOOKUP(L16,'Point Values'!$A:$B,2,FALSE)","v":0},{"$f":"VLOOKUP(M16,'Point Values'!$A:$B,2,FALSE)","v":0}]
[15]
[16]
[17]
[18]
[19]
[20]
["*Ties will be broken by:  1)  number of wins, 2)  number of 2nd places, 3) number of third place finishes, etc., until the tie is broken)."]

{"sheet":"Pro","index":6,"n_rows":27,"n_cols":22,"rows_kept":27,"cut":false,"hidden":false,"merged":[[0,0,0,23],[26,0,26,21]]}
["PRO - 2018 WINTER HEAT POINTS"]
["CHAMPIONSHIP STANDING","CAR NUMBER","DRIVERS NAME",null,"TOTAL POINTS","2017-12-16","2017-12-17","2017-01-13","2018-01-13","2018-01-20","2018-01-20","2018-01-27","2018-02-03",null,"2017-12-16","2017-12-17","2017-01-13","2018-01-13","2018-01-20","2018-01-20","2018-01-27","2018-02-03"]
[1,"31","Noah Korner",null,{"$f":"SUM(O3:V3)","v":667},3,3,2,3,2,2,3,3,null,0,{"$f":"VLOOKUP(G3,'Point Values'!$A:$B,2,FALSE)","v":94},{"$f":"VLOOKUP(H3,'Point Values'!$A:$B,2,FALSE)","v":97},{"$f":"VLOOKUP(I3,'Point Values'!$A:$B,2,FALSE)","v":94},{"$f":"VLOOKUP(J3,'Point Values'!$A:$B,2,FALSE)","v":97},{"$f":"VLOOKUP(K3,'Point Values'!$A:$B,2,FALSE)","v":97},{"$f":"VLOOKUP(L3,'Point Values'!$A:$B,2,FALSE)","v":94},{"$f":"VLOOKUP(M3,'Point Values'!$A:$B,2,FALSE)","v":94}]
[2,"22","Sam Mayer",null,665,1,1,3,2,3,3,4,6,null,{"$f":"VLOOKUP(F4,'Point Values'!$A:$B,2,FALSE)","v":100},{"$f":"VLOOKUP(G4,'Point Values'!$A:$B,2,FALSE)","v":100},{"$f":"VLOOKUP(H4,'Point Values'!$A:$B,2,FALSE)","v":94},{"$f":"VLOOKUP(I4,'Point Values'!$A:$B,2,FALSE)","v":97},{"$f":"VLOOKUP(J4,'Point Values'!$A:$B,2,FALSE)","v":94},{"$f":"VLOOKUP(K4,'Point Values'!$A:$B,2,FALSE)","v":94},0,{"$f":"VLOOKUP(M4,'Point Values'!$A:$B,2,FALSE)","v":86}]
[3,"48","Dennis Lambert",null,581,".",".",1,1,1,1,2,7,null,{"$f":"VLOOKUP(F5,'Point Values'!$A:$B,2,FALSE)","v":0},{"$f":"VLOOKUP(G5,'Point Values'!$A:$B,2,FALSE)","v":0},{"$f":"VLOOKUP(H5,'Point Values'!$A:$B,2,FALSE)","v":100},{"$f":"VLOOKUP(I5,'Point Values'!$A:$B,2,FALSE)","v":100},{"$f":"VLOOKUP(J5,'Point Values'!$A:$B,2,FALSE)","v":100},{"$f":"VLOOKUP(K5,'Point Values'!$A:$B,2,FALSE)","v":100},{"$f":"VLOOKUP(L5,'Point Values'!$A:$B,2,FALSE)","v":97},{"$f":"VLOOKUP(M5,'Point Values'!$A:$B,2,FALSE)","v":84}]
[4,98,"Nick Sanchez",null,451,".",".",4,6,4,".",6,2,null,{"$f":"VLOOKUP(F6,'Point Values'!$A:$B,2,FALSE)","v":0},{"$f":"VLOOKUP(G6,'Point Values'!$A:$B,2,FALSE)","v":0},{"$f":"VLOOKUP(H6,'Point Values'!$A:$B,2,FALSE)","v":91},{"$f":"VLOOKUP(I6,'Point Values'!$A:$B,2,FALSE)","v":86},{"$f":"VLOOKUP(J6,'Point Values'!$A:$B,2,FALSE)","v":91},{"$f":"VLOOKUP(K6,'Point Values'!$A:$B,2,FALSE)","v":0},{"$f":"VLOOKUP(L6,'Point Values'!$A:$B,2,FALSE)","v":86},{"$f":"VLOOKUP(M6,'Point Values'!$A:$B,2,FALSE)","v":97}]
[5,"16","Jordan Lamothe",null,430,5,6,8,".",5,6,".",".",null,{"$f":"VLOOKUP(F7,'Point Values'!$A:$B,2,FALSE)","v":88},{"$f":"VLOOKUP(G7,'Point Values'!$A:$B,2,FALSE)","v":86},{"$f":"VLOOKUP(H7,'Point Values'!$A:$B,2,FALSE)","v":82},{"$f":"VLOOKUP(I7,'Point Values'!$A:$B,2,FALSE)","v":0},{"$f":"VLOOKUP(J7,'Point Values'!$A:$B,2,FALSE)","v":88},{"$f":"VLOOKUP(K7,'Point Values'!$A:$B,2,FALSE)","v":86},{"$f":"VLOOKUP(L7,'Point Values'!$A:$B,2,FALSE)","v":0},{"$f":"VLOOKUP(M7,'Point Values'!$A:$B,2,FALSE)","v":0}]
[6,"25","William Byron",null,275,".",".",".",".",7,4,1,".",null,{"$f":"VLOOKUP(F8,'Point Values'!$A:$B,2,FALSE)","v":0},{"$f":"VLOOKUP(G8,'Point Values'!$A:$B,2,FALSE)","v":0},{"$f":"VLOOKUP(H8,'Point Values'!$A:$B,2,FALSE)","v":0},{"$f":"VLOOKUP(I8,'Point Values'!$A:$B,2,FALSE)","v":0},{"$f":"VLOOKUP(J8,'Point Values'!$A:$B,2,FALSE)","v":84},{"$f":"VLOOKUP(K8,'Point Values'!$A:$B,2,FALSE)","v":91},{"$f":"VLOOKUP(L8,'Point Values'!$A:$B,2,FALSE)","v":100},{"$f":"VLOOKUP(M8,'Point Values'!$A:$B,2,FALSE)","v":0}]
[7,"08","Cory Hall",null,194,2,2,".",".",".",".",".",".",null,{"$f":"VLOOKUP(F9,'Point Values'!$A:$B,2,FALSE)","v":97},{"$f":"VLOOKUP(G9,'Point Values'!$A:$B,2,FALSE)","v":97},{"$f":"VLOOKUP(H9,'Point Values'!$A:$B,2,FALSE)","v":0},{"$f":"VLOOKUP(I9,'Point Values'!$A:$B,2,FALSE)","v":0},{"$f":"VLOOKUP(J9,'Point Values'!$A:$B,2,FALSE)","v":0},{"$f":"VLOOKUP(K9,'Point Values'!$A:$B,2,FALSE)","v":0},{"$f":"VLOOKUP(L9,'Point Values'!$A:$B,2,FALSE)","v":0},{"$f":"VLOOKUP(M9,'Point Values'!$A:$B,2,FALSE)","v":0}]
[8,"140","Jordan O'Brien",null,188,".",".",".",".",".",".",5,1,null,{"$f":"VLOOKUP(F10,'Point Values'!$A:$B,2,FALSE)","v":0},{"$f":"VLOOKUP(G10,'Point Values'!$A:$B,2,FALSE)","v":0},{"$f":"VLOOKUP(H10,'Point Values'!$A:$B,2,FALSE)","v":0},{"$f":"VLOOKUP(I10,'Point Values'!$A:$B,2,FALSE)","v":0},{"$f":"VLOOKUP(J10,'Point Values'!$A:$B,2,FALSE)","v":0},{"$f":"VLOOKUP(K10,'Point Values'!$A:$B,2,FALSE)","v":0},{"$f":"VLOOKUP(L10,'Point Values'!$A:$B,2,FALSE)","v":88},{"$f":"VLOOKUP(M10,'Point Values'!$A:$B,2,FALSE)","v":100}]
[9,"7","Steven Cantrell",null,177,".",".",6,4,".",".",".",".",null,{"$f":"VLOOKUP(F11,'Point Values'!$A:$B,2,FALSE)","v":0},{"$f":"VLOOKUP(G11,'Point Values'!$A:$B,2,FALSE)","v":0},{"$f":"VLOOKUP(H11,'Point Values'!$A:$B,2,FALSE)","v":86},{"$f":"VLOOKUP(I11,'Point Values'!$A:$B,2,FALSE)","v":91},{"$f":"VLOOKUP(J11,'Point Values'!$A:$B,2,FALSE)","v":0},{"$f":"VLOOKUP(K11,'Point Values'!$A:$B,2,FALSE)","v":0},{"$f":"VLOOKUP(L11,'Point Values'!$A:$B,2,FALSE)","v":0},{"$f":"VLOOKUP(M11,'Point Values'!$A:$B,2,FALSE)","v":0}]
[10,"52","Jordan Stillwell",null,174,6,5,".",".",".",".",".",".",null,{"$f":"VLOOKUP(F12,'Point Values'!$A:$B,2,FALSE)","v":86},{"$f":"VLOOKUP(G12,'Point Values'!$A:$B,2,FALSE)","v":88},{"$f":"VLOOKUP(H12,'Point Values'!$A:$B,2,FALSE)","v":0},{"$f":"VLOOKUP(I12,'Point Values'!$A:$B,2,FALSE)","v":0},{"$f":"VLOOKUP(J12,'Point Values'!$A:$B,2,FALSE)","v":0},{"$f":"VLOOKUP(K12,'Point Values'!$A:$B,2,FALSE)","v":0},{"$f":"VLOOKUP(L12,'Point Values'!$A:$B,2,FALSE)","v":0},{"$f":"VLOOKUP(M12,'Point Values'!$A:$B,2,FALSE)","v":0}]
[11,"6","Jun Takashiro",null,174,".",".",".",".",6,5,".",".",null,{"$f":"VLOOKUP(F13,'Point Values'!$A:$B,2,FALSE)","v":0},{"$f":"VLOOKUP(G13,'Point Values'!$A:$B,2,FALSE)","v":0},{"$f":"VLOOKUP(H13,'Point Values'!$A:$B,2,FALSE)","v":0},{"$f":"VLOOKUP(I13,'Point Values'!$A:$B,2,FALSE)","v":0},{"$f":"VLOOKUP(J13,'Point Values'!$A:$B,2,FALSE)","v":86},{"$f":"VLOOKUP(K13,'Point Values'!$A:$B,2,FALSE)","v":88},{"$f":"VLOOKUP(L13,'Point Values'!$A:$B,2,FALSE)","v":0},{"$f":"VLOOKUP(M13,'Point Values'!$A:$B,2,FALSE)","v":0}]
[12,"88","Nicholas Naugle",null,172,".",".",5,7,".",".",".",".",null,{"$f":"VLOOKUP(F14,'Point Values'!$A:$B,2,FALSE)","v":0},{"$f":"VLOOKUP(G14,'Point Values'!$A:$B,2,FALSE)","v":0},{"$f":"VLOOKUP(H14,'Point Values'!$A:$B,2,FALSE)","v":88},{"$f":"VLOOKUP(I14,'Point Values'!$A:$B,2,FALSE)","v":84},{"$f":"VLOOKUP(J14,'Point Values'!$A:$B,2,FALSE)","v":0},{"$f":"VLOOKUP(K14,'Point Values'!$A:$B,2,FALSE)","v":0},{"$f":"VLOOKUP(L14,'Point Values'!$A:$B,2,FALSE)","v":0},{"$f":"VLOOKUP(M14,'Point Values'!$A:$B,2,FALSE)","v":0}]
[13,"1","Alex Pacheco",null,172,".",".",7,5,".",".",".",".",null,{"$f":"VLOOKUP(F15,'Point Values'!$A:$B,2,FALSE)","v":0},{"$f":"VLOOKUP(G15,'Point Values'!$A:$B,2,FALSE)","v":0},{"$f":"VLOOKUP(H15,'Point Values'!$A:$B,2,FALSE)","v":84},{"$f":"VLOOKUP(I15,'Point Values'!$A:$B,2,FALSE)","v":88},{"$f":"VLOOKUP(J15,'Point Values'!$A:$B,2,FALSE)","v":0},{"$f":"VLOOKUP(K15,'Point Values'!$A:$B,2,FALSE)","v":0},{"$f":"VLOOKUP(L15,'Point Values'!$A:$B,2,FALSE)","v":0},{"$f":"VLOOKUP(M15,'Point Values'!$A:$B,2,FALSE)","v":0}]
[14,"84","Kyle Beattie",null,171,4,9,".",".",".",".",".",".",null,{"$f":"VLOOKUP(F16,'Point Values'!$A:$B,2,FALSE)","v":91},{"$f":"VLOOKUP(G16,'Point Values'!$A:$B,2,FALSE)","v":80},{"$f":"VLOOKUP(H16,'Point Values'!$A:$B,2,FALSE)","v":0},{"$f":"VLOOKUP(I16,'Point Values'!$A:$B,2,FALSE)","v":0},{"$f":"VLOOKUP(J16,'Point Values'!$A:$B,2,FALSE)","v":0},{"$f":"VLOOKUP(K16,'Point Values'!$A:$B,2,FALSE)","v":0},{"$f":"VLOOKUP(L16,'Point Values'!$A:$B,2,FALSE)","v":0},{"$f":"VLOOKUP(M16,'Point Values'!$A:$B,2,FALSE)","v":0}]
[15,"3","Drew Brown",null,171,9,4,".",".",".",".",".",".",null,{"$f":"VLOOKUP(F17,'Point Values'!$A:$B,2,FALSE)","v":80},{"$f":"VLOOKUP(G17,'Point Values'!$A:$B,2,FALSE)","v":91},{"$f":"VLOOKUP(H17,'Point Values'!$A:$B,2,FALSE)","v":0},{"$f":"VLOOKUP(I17,'Point Values'!$A:$B,2,FALSE)","v":0},{"$f":"VLOOKUP(J17,'Point Values'!$A:$B,2,FALSE)","v":0},{"$f":"VLOOKUP(K17,'Point Values'!$A:$B,2,FALSE)","v":0},{"$f":"VLOOKUP(L17,'Point Values'!$A:$B,2,FALSE)","v":0},{"$f":"VLOOKUP(M17,'Point Values'!$A:$B,2,FALSE)","v":0}]
[16,"12","Brandon Martinez",null,166,7,8,".",".",".",".",".",".",null,{"$f":"VLOOKUP(F18,'Point Values'!$A:$B,2,FALSE)","v":84},{"$f":"VLOOKUP(G18,'Point Values'!$A:$B,2,FALSE)","v":82},{"$f":"VLOOKUP(H18,'Point Values'!$A:$B,2,FALSE)","v":0},{"$f":"VLOOKUP(I18,'Point Values'!$A:$B,2,FALSE)","v":0},{"$f":"VLOOKUP(J18,'Point Values'!$A:$B,2,FALSE)","v":0},{"$f":"VLOOKUP(K18,'Point Values'!$A:$B,2,FALSE)","v":0},{"$f":"VLOOKUP(L18,'Point Values'!$A:$B,2,FALSE)","v":0},{"$f":"VLOOKUP(M18,'Point Values'!$A:$B,2,FALSE)","v":0}]
[17,"25","Christopher Clanton",null,166,8,7,".",".",".",".",".",".",null,{"$f":"VLOOKUP(F19,'Point Values'!$A:$B,2,FALSE)","v":82},{"$f":"VLOOKUP(G19,'Point Values'!$A:$B,2,FALSE)","v":84},{"$f":"VLOOKUP(H19,'Point Values'!$A:$B,2,FALSE)","v":0},{"$f":"VLOOKUP(I19,'Point Values'!$A:$B,2,FALSE)","v":0},{"$f":"VLOOKUP(J19,'Point Values'!$A:$B,2,FALSE)","v":0},{"$f":"VLOOKUP(K19,'Point Values'!$A:$B,2,FALSE)","v":0},{"$f":"VLOOKUP(L19,'Point Values'!$A:$B,2,FALSE)","v":0},{"$f":"VLOOKUP(M19,'Point Values'!$A:$B,2,FALSE)","v":0}]
[18,"860","Emil Persson",null,164,".",".",".",".",9,7,".",".",null,{"$f":"VLOOKUP(F20,'Point Values'!$A:$B,2,FALSE)","v":0},{"$f":"VLOOKUP(G20,'Point Values'!$A:$B,2,FALSE)","v":0},{"$f":"VLOOKUP(H20,'Point Values'!$A:$B,2,FALSE)","v":0},{"$f":"VLOOKUP(I20,'Point Values'!$A:$B,2,FALSE)","v":0},{"$f":"VLOOKUP(J20,'Point Values'!$A:$B,2,FALSE)","v":80},{"$f":"VLOOKUP(K20,'Point Values'!$A:$B,2,FALSE)","v":84},{"$f":"VLOOKUP(L20,'Point Values'!$A:$B,2,FALSE)","v":0},{"$f":"VLOOKUP(M20,'Point Values'!$A:$B,2,FALSE)","v":0}]
[19,"9","Carl Vilardo",null,91,".",".",".",".",".",".",".",4,null,{"$f":"VLOOKUP(F21,'Point Values'!$A:$B,2,FALSE)","v":0},{"$f":"VLOOKUP(G21,'Point Values'!$A:$B,2,FALSE)","v":0},{"$f":"VLOOKUP(H21,'Point Values'!$A:$B,2,FALSE)","v":0},{"$f":"VLOOKUP(I21,'Point Values'!$A:$B,2,FALSE)","v":0},{"$f":"VLOOKUP(J21,'Point Values'!$A:$B,2,FALSE)","v":0},{"$f":"VLOOKUP(K21,'Point Values'!$A:$B,2,FALSE)","v":0},{"$f":"VLOOKUP(L21,'Point Values'!$A:$B,2,FALSE)","v":0},{"$f":"VLOOKUP(M21,'Point Values'!$A:$B,2,FALSE)","v":91}]
[20,"52","Will Rodgers",null,88,".",".",".",".",".",".",".",5,null,{"$f":"VLOOKUP(F22,'Point Values'!$A:$B,2,FALSE)","v":0},{"$f":"VLOOKUP(G22,'Point Values'!$A:$B,2,FALSE)","v":0},{"$f":"VLOOKUP(H22,'Point Values'!$A:$B,2,FALSE)","v":0},{"$f":"VLOOKUP(I22,'Point Values'!$A:$B,2,FALSE)","v":0},{"$f":"VLOOKUP(J22,'Point Values'!$A:$B,2,FALSE)","v":0},{"$f":"VLOOKUP(K22,'Point Values'!$A:$B,2,FALSE)","v":0},{"$f":"VLOOKUP(L22,'Point Values'!$A:$B,2,FALSE)","v":0},{"$f":"VLOOKUP(M22,'Point Values'!$A:$B,2,FALSE)","v":88}]
[21,"19","Kevin Girard",null,84,".",".",".",".",".",".",7,".",null,{"$f":"VLOOKUP(F23,'Point Values'!$A:$B,2,FALSE)","v":0},{"$f":"VLOOKUP(G23,'Point Values'!$A:$B,2,FALSE)","v":0},{"$f":"VLOOKUP(H23,'Point Values'!$A:$B,2,FALSE)","v":0},{"$f":"VLOOKUP(I23,'Point Values'!$A:$B,2,FALSE)","v":0},{"$f":"VLOOKUP(J23,'Point Values'!$A:$B,2,FALSE)","v":0},{"$f":"VLOOKUP(K23,'Point Values'!$A:$B,2,FALSE)","v":0},{"$f":"VLOOKUP(L23,'Point Values'!$A:$B,2,FALSE)","v":84},{"$f":"VLOOKUP(M23,'Point Values'!$A:$B,2,FALSE)","v":0}]
[22,"21","Patrick Lyden",null,82,".",".",".",".",8,".",".",".",null,{"$f":"VLOOKUP(F24,'Point Values'!$A:$B,2,FALSE)","v":0},{"$f":"VLOOKUP(G24,'Point Values'!$A:$B,2,FALSE)","v":0},{"$f":"VLOOKUP(H24,'Point Values'!$A:$B,2,FALSE)","v":0},{"$f":"VLOOKUP(I24,'Point Values'!$A:$B,2,FALSE)","v":0},{"$f":"VLOOKUP(J24,'Point Values'!$A:$B,2,FALSE)","v":82},{"$f":"VLOOKUP(K24,'Point Values'!$A:$B,2,FALSE)","v":0},{"$f":"VLOOKUP(L24,'Point Values'!$A:$B,2,FALSE)","v":0},{"$f":"VLOOKUP(M24,'Point Values'!$A:$B,2,FALSE)","v":0}]
[23,"17","Aaron Gaddy",null,80,".",".",9,".",".",".",".",".",null,{"$f":"VLOOKUP(F25,'Point Values'!$A:$B,2,FALSE)","v":0},{"$f":"VLOOKUP(G25,'Point Values'!$A:$B,2,FALSE)","v":0},{"$f":"VLOOKUP(H25,'Point Values'!$A:$B,2,FALSE)","v":80},{"$f":"VLOOKUP(I25,'Point Values'!$A:$B,2,FALSE)","v":0},{"$f":"VLOOKUP(J25,'Point Values'!$A:$B,2,FALSE)","v":0},{"$f":"VLOOKUP(K25,'Point Values'!$A:$B,2,FALSE)","v":0},{"$f":"VLOOKUP(L25,'Point Values'!$A:$B,2,FALSE)","v":0},{"$f":"VLOOKUP(M25,'Point Values'!$A:$B,2,FALSE)","v":0}]
[24]
["*Ties will be broken by:  1)  number of wins, 2)  number of 2nd places, 3) number of third place finishes, etc., until the tie is broken)."]

{"sheet":"Point Values","index":7,"n_rows":33,"n_cols":2,"rows_kept":33,"cut":false,"hidden":false,"merged":[]}
[1,100]
[2,97]
[3,94]
[4,91]
[5,88]
[6,86]
[7,84]
[8,82]
[9,80]
[10,78]
[11,76]
[12,{"$f":"B11-2","v":74}]
[13,{"$f":"B12-2","v":72}]
[14,70]
[15,68]
[16,67]
[17,{"$f":"B16-1","v":66}]
[18,{"$f":"B17-1","v":65}]
[19,64]
[20,63]
[21,62]
[22,61]
[23,60]
[24,59]
[25,58]
[26,57]
[27,56]
[28,55]
[29,54]
[30,53]
["X",0]
["DQ",0]
[".",0]